BEGIN:VCALENDAR
VERSION:2.0
PRODID:-//Reel Green™ - ECPv6.15.20//NONSGML v1.0//EN
CALSCALE:GREGORIAN
METHOD:PUBLISH
X-WR-CALNAME:Reel Green™
X-ORIGINAL-URL:https://reelgreen.ca
X-WR-CALDESC:Events for Reel Green™
REFRESH-INTERVAL;VALUE=DURATION:PT1H
X-Robots-Tag:noindex
X-PUBLISHED-TTL:PT1H
BEGIN:VTIMEZONE
TZID:America/Vancouver
BEGIN:DAYLIGHT
TZOFFSETFROM:-0800
TZOFFSETTO:-0700
TZNAME:PDT
DTSTART:20210314T100000
END:DAYLIGHT
BEGIN:STANDARD
TZOFFSETFROM:-0700
TZOFFSETTO:-0800
TZNAME:PST
DTSTART:20211107T090000
END:STANDARD
BEGIN:DAYLIGHT
TZOFFSETFROM:-0800
TZOFFSETTO:-0700
TZNAME:PDT
DTSTART:20220313T100000
END:DAYLIGHT
BEGIN:STANDARD
TZOFFSETFROM:-0700
TZOFFSETTO:-0800
TZNAME:PST
DTSTART:20221106T090000
END:STANDARD
BEGIN:DAYLIGHT
TZOFFSETFROM:-0800
TZOFFSETTO:-0700
TZNAME:PDT
DTSTART:20230312T100000
END:DAYLIGHT
BEGIN:STANDARD
TZOFFSETFROM:-0700
TZOFFSETTO:-0800
TZNAME:PST
DTSTART:20231105T090000
END:STANDARD
END:VTIMEZONE
BEGIN:VEVENT
DTSTART;TZID=America/Vancouver:20220426T193000
DTEND;TZID=America/Vancouver:20220426T213000
DTSTAMP:20260425T160707
CREATED:20220422T232757Z
LAST-MODIFIED:20220422T232757Z
UID:31235-1651001400-1651008600@reelgreen.ca
SUMMARY:Vancouver Post Alliance Women in Post Panel 2022
DESCRIPTION:FREE for Vancouver Post Alliance (VPA) Members AND Non-Members \nThe VPA is thrilled to bring you this exciting online panel where each post production profession will be represented by an inspiring female VPA member who is a master of her craft. VPA will be talking about Post Production as a whole and exploring the creative inputs of each panelist based on their area of expertise. There will be a QA session at the end for anyone who’s interested in asking specific questions. Everyone is welcome to this special Zoom event. \nThe panel will be moderated by the VPA’s Buket Biles\, with panelists: \nKerry McDowall\, Post Producer\nNicole Ratcliffe\, Picture Editor\nAmanda Cawley\, Composer\nEva Madden\, Sound Designer\nMay Guimarães\, Re-recording Mixer\nAnne Boyle\, Colourist\nKelsy Wittmann\, VFX Producer \nLearn more about the panelists and register here. \n 
URL:https://reelgreen.ca/event/vancouver-post-alliance-women-in-post-panel/
CATEGORIES:Motion Picture
END:VEVENT
END:VCALENDAR