BEGIN:VCALENDAR
VERSION:2.0
PRODID:-//Reel Green™ - ECPv6.15.20//NONSGML v1.0//EN
CALSCALE:GREGORIAN
METHOD:PUBLISH
X-WR-CALNAME:Reel Green™
X-ORIGINAL-URL:https://reelgreen.ca
X-WR-CALDESC:Events for Reel Green™
REFRESH-INTERVAL;VALUE=DURATION:PT1H
X-Robots-Tag:noindex
X-PUBLISHED-TTL:PT1H
BEGIN:VTIMEZONE
TZID:America/Vancouver
BEGIN:DAYLIGHT
TZOFFSETFROM:-0800
TZOFFSETTO:-0700
TZNAME:PDT
DTSTART:20210314T100000
END:DAYLIGHT
BEGIN:STANDARD
TZOFFSETFROM:-0700
TZOFFSETTO:-0800
TZNAME:PST
DTSTART:20211107T090000
END:STANDARD
BEGIN:DAYLIGHT
TZOFFSETFROM:-0800
TZOFFSETTO:-0700
TZNAME:PDT
DTSTART:20220313T100000
END:DAYLIGHT
BEGIN:STANDARD
TZOFFSETFROM:-0700
TZOFFSETTO:-0800
TZNAME:PST
DTSTART:20221106T090000
END:STANDARD
BEGIN:DAYLIGHT
TZOFFSETFROM:-0800
TZOFFSETTO:-0700
TZNAME:PDT
DTSTART:20230312T100000
END:DAYLIGHT
BEGIN:STANDARD
TZOFFSETFROM:-0700
TZOFFSETTO:-0800
TZNAME:PST
DTSTART:20231105T090000
END:STANDARD
END:VTIMEZONE
BEGIN:VEVENT
DTSTART;TZID=America/Vancouver:20220510T170000
DTEND;TZID=America/Vancouver:20220510T180000
DTSTAMP:20260425T143427
CREATED:20220510T003523Z
LAST-MODIFIED:20220510T003523Z
UID:31739-1652202000-1652205600@reelgreen.ca
SUMMARY:Vancouver Film School Online Industry Talks: Prem Gill
DESCRIPTION:Learn how to better understand and break into B.C.’s creative industries. On Tuesday\, May 10\, VFS invites you to an Online Industry Talk with Prem Gill\, CEO for Creative BC – a government organization that seeks to unite\, sustain\, and grow B.C.’s creative sector. Join us as Prem sits down with Arun Fryer (Film Instructor at VFS) to discuss Creative BC’s brand-new Creative Pathways program\, the massive cultural shift in Canada\, and the importance of understanding B.C.’s creative ecosystem. \n\n\nAbout Prem Gill\nPrem Gill brings more than 20 years of experience from the digital media and entertainment industries to her current role as CEO for Creative BC\, where she is responsible for delivering a wide range of programs and services to expand B.C.’s creative economy. Prem has been named one of Canada’s 100 most powerful women\, Vancouver Magazine’s “Power 50”\, and received the Community Catalyst award from the Greater Vancouver Board of Trade. For many years\, Prem has championed Canadian creativity as a representative and spokesperson to media\, industry\, and government at all levels. \nEvent Details\nDate: Tuesday\, May 10\, 2022\nTime: 5-6 p.m. PST\nLocation: Online\nCost: FREE \nREGISTER HERE
URL:https://reelgreen.ca/event/vancouver-film-school-online-industry-talks-prem-gill/
CATEGORIES:Motion Picture
END:VEVENT
BEGIN:VEVENT
DTSTART;TZID=America/Vancouver:20220513T080000
DTEND;TZID=America/Vancouver:20220513T170000
DTSTAMP:20260425T143427
CREATED:20220513T212819Z
LAST-MODIFIED:20220513T212819Z
UID:31974-1652428800-1652461200@reelgreen.ca
SUMMARY:DOXA Documentary Film Festival 2022
DESCRIPTION:#DOXA2022 is on now! The DOXA Festival is presented by The Documentary Media Society\, a Vancouver based non-profit\, charitable society devoted to presenting independent and innovative documentaries to Vancouver audiences. Learn more: https://doxafestival.ca
URL:https://reelgreen.ca/event/doxa-documentary-film-festival-2022/
CATEGORIES:Motion Picture
END:VEVENT
BEGIN:VEVENT
DTSTART;TZID=America/Vancouver:20220518T190000
DTEND;TZID=America/Vancouver:20220518T210000
DTSTAMP:20260425T143427
CREATED:20220511T230725Z
LAST-MODIFIED:20220511T230725Z
UID:31899-1652900400-1652907600@reelgreen.ca
SUMMARY:Free Creative Industries Week Screening: Portraits From a Fire
DESCRIPTION:Portraits From a Fire\nFree Screening to mark BC’s Creative Industries Week\nBC Emerging Filmmaker Award\, VIFF 2021 \nPossessing more determination than discernible talent\, teenage Tyler (William Magnus Lulua) routinely premieres his lo-fi DIY films on his reservation for a smattering of viewers who struggle to stay awake. Undaunted\, he retains his belief that he and his films are bound for bigger things. At the very least\, they can be a bigger draw than bingo. Just as his new friend Aaron (Asivak Koostachin) practically manifests from the ether to provide him with some welcome encouragement\, a DV tape resurfaces that casts new light on his family’s history and may just provide answers to questions that he’s long harboured. \nReturning to the Tl’etinqox Reserve where he grew up\, Trevor Mack has delivered an accomplished\, open-hearted first feature both made about and in collaboration with his community. Mingling authenticity and invention\, Mack employs recurring formal flourishes to illustrate the porousness of the membrane separating past and present. As Tyler abandons escapism in favour of unearthing difficult truths\, Mack testifies that where there is trauma\, there is likewise the opportunity for healing. \nLearn more and register here!  \n 
URL:https://reelgreen.ca/event/free-creative-industries-week-screening-portraits-from-a-fire/
CATEGORIES:Motion Picture
ATTACH;FMTTYPE=image/jpeg:https://reelgreen.ca/wp-content/uploads/2022/05/portraitsfromafire-1.jpeg
END:VEVENT
END:VCALENDAR