BEGIN:VCALENDAR
VERSION:2.0
PRODID:-//Reel Green™ - ECPv6.15.20//NONSGML v1.0//EN
CALSCALE:GREGORIAN
METHOD:PUBLISH
X-ORIGINAL-URL:https://reelgreen.ca
X-WR-CALDESC:Events for Reel Green™
REFRESH-INTERVAL;VALUE=DURATION:PT1H
X-Robots-Tag:noindex
X-PUBLISHED-TTL:PT1H
BEGIN:VTIMEZONE
TZID:America/Vancouver
BEGIN:DAYLIGHT
TZOFFSETFROM:-0800
TZOFFSETTO:-0700
TZNAME:PDT
DTSTART:20210314T100000
END:DAYLIGHT
BEGIN:STANDARD
TZOFFSETFROM:-0700
TZOFFSETTO:-0800
TZNAME:PST
DTSTART:20211107T090000
END:STANDARD
BEGIN:DAYLIGHT
TZOFFSETFROM:-0800
TZOFFSETTO:-0700
TZNAME:PDT
DTSTART:20220313T100000
END:DAYLIGHT
BEGIN:STANDARD
TZOFFSETFROM:-0700
TZOFFSETTO:-0800
TZNAME:PST
DTSTART:20221106T090000
END:STANDARD
BEGIN:DAYLIGHT
TZOFFSETFROM:-0800
TZOFFSETTO:-0700
TZNAME:PDT
DTSTART:20230312T100000
END:DAYLIGHT
BEGIN:STANDARD
TZOFFSETFROM:-0700
TZOFFSETTO:-0800
TZNAME:PST
DTSTART:20231105T090000
END:STANDARD
END:VTIMEZONE
BEGIN:VEVENT
DTSTART;TZID=America/Vancouver:20221103T010000
DTEND;TZID=America/Vancouver:20221114T005959
DTSTAMP:20260425T060256
CREATED:20221023T163406Z
LAST-MODIFIED:20221023T163406Z
UID:36467-1667437200-1668387599@reelgreen.ca
SUMMARY:Vancouver Asian Film Festival 2022
DESCRIPTION:FESTIVAL PROFILE\nVAFF is the longest running Asian film festival in Canada. It was founded in 1995 and debuted in September 1997. Since then\, tens of thousands of film lovers have experienced a diverse selection of North American-Asian and international films. \nEach year VAFF attracts close to 5\,000 audience members over its four-day festival and year round events. It also reaches many more through word of mouth\, pre-festival events\, and traditional and social media throughout the year. \nIn 2020 almost every regional\, national and international film festival pivot to be a virtual festival. VAFF was no exception. From the learnings of hosting virtual screenings and panels\, VAFF will expand to include a section of its future film festivals to be virtual from 2021 onward. \nVAFF is entirely organized and produced by a group of dedicated volunteers\, and is made possible by generous financial support from corporate sponsors\, public funders and private donors. \nVISION\nVAFF envisions a world where North American Asian actors and filmmakers have the resources and opportunities to shape mainstream culture in a powerful and positive way. \nMISSION\n\nVAFF is dedicated to promoting and celebrating the diversity and depth of Asian culture and identity in film and media\, and to help North American Asian actors and filmmakers more authentically and more powerfully define and express themselves on screen. \nThrough its annual film festival and many other programs and events hosted in Vancouver\, VAFF’s mission is to engage in\, support and amplify Asian presence in film and television. \n\n\n\n\nLEARN MORE
URL:https://reelgreen.ca/event/vancouver-asian-film-festival-2022/
CATEGORIES:Motion Picture
END:VEVENT
BEGIN:VEVENT
DTSTART;TZID=America/Vancouver:20221104T010000
DTEND;TZID=America/Vancouver:20221106T005959
DTSTAMP:20260425T060256
CREATED:20221019T144206Z
LAST-MODIFIED:20221019T144206Z
UID:36385-1667523600-1667696399@reelgreen.ca
SUMMARY:FactualWEST 2022
DESCRIPTION:Returning for the seventh year on November 4 & 5\, 2022 with a two-day event\, FactualWEST is a one-of-a-kind conference for producers and crew working in factual\, lifestyle\, reality and documentary television. We bring together top showrunners\, broadcasters\, creators and producers to lead sessions and case studies designed to help you increase your skills\, learn practical tips and get useful insights you can use to move your career and your projects forward. \nThe sessions focus on developing the skills you care about most: Writing\, Producing\, Field and Post and Digital Storytelling. These practical sessions will be led by top talent from LA\, Toronto\, New York\, and Vancouver. Hear from creators\, showrunners\, and producers from such shows as Oprah’s Master Class\, and Pamela’s Garden of Eden. \nThe conference will also include a Keynote\, Broadcaster Panel\, Pitch Thunderdome and One-on-One Pitch Sessions including Corus\, Bell Media\, and CBC\, as well as a number of networking opportunities: lunch\, breaks\, receptions and new this year\, FactualWEST AfterDARK. \nLEARN MORE
URL:https://reelgreen.ca/event/factualwest-2022/
CATEGORIES:Motion Picture
ATTACH;FMTTYPE=image/jpeg:https://reelgreen.ca/wp-content/uploads/2022/10/factualwest_WEB.jpeg
END:VEVENT
BEGIN:VEVENT
DTSTART;TZID=America/Vancouver:20221109T010000
DTEND;TZID=America/Vancouver:20221113T005959
DTSTAMP:20260425T060256
CREATED:20221031T183025Z
LAST-MODIFIED:20221031T183025Z
UID:36587-1667955600-1668301199@reelgreen.ca
SUMMARY:Architecture & Design Film Festival Vancouver 2022
DESCRIPTION:Architecture & Design Film Festival is the nation’s largest film festival celebrating the creative spirit behind some of the world’s most remarkable architecture and design.
URL:https://reelgreen.ca/event/architecture-design-film-festival-vancouver-2022/
CATEGORIES:Motion Picture
END:VEVENT
BEGIN:VEVENT
DTSTART;TZID=America/Vancouver:20221109T010000
DTEND;TZID=America/Vancouver:20221114T005959
DTSTAMP:20260425T060256
CREATED:20221011T210414Z
LAST-MODIFIED:20221011T210414Z
UID:36183-1667955600-1668387599@reelgreen.ca
SUMMARY:Vancouver International South Asian Film Festival 2022
DESCRIPTION:Vancouver International South Asian Film Festival celebrates stories usually not represented by mainstream cinema or contemporary Bollywood film formulas. Features\, shorts\, web series\, music videos and documentaries\, all chosen to engage\, educate and inspire audiences by promoting free expression\, cross-cultural interactions and understanding\, and combating intolerance and stereotypes. \nVISAFF originated in 2008 to “bridge the gap” between South Asian talent and mainstream audiences by connecting directors\, actors\, producers\, community organizations\, corporate brands and South Asian cinephiles. \nLearn more \n 
URL:https://reelgreen.ca/event/vancouver-international-south-asian-film-festival-2022/
CATEGORIES:Motion Picture
END:VEVENT
BEGIN:VEVENT
DTSTART;TZID=America/Vancouver:20221115T010000
DTEND;TZID=America/Vancouver:20221117T005959
DTSTAMP:20260425T060256
CREATED:20221011T204320Z
LAST-MODIFIED:20221011T204320Z
UID:36172-1668474000-1668646799@reelgreen.ca
SUMMARY:Playback Film Summit 2022
DESCRIPTION:Playback\, Canada’s leading screen business publication\, is launching the second edition of our signature virtual event and marketplace to bolster and celebrate the Canadian independent feature film industry and serve as an ignition point for new projects and partnerships. November 15-16\, 2022 will unveil two days of expert panels\, pre-set meetings and networking focusing on the present and future of the film development\, financing and production ecosystem. \nJoin creative and business professionals from across Canada and meet potential partners from the U.S.\, Europe and around the world. This event will draw producers\, writers\, directors\, agents\, funding bodies\, investors and distribution professionals as well as festival programmers\, streamers and other industry stakeholders to share strategies\, facilitate partnerships and accelerate new opportunities. \nLearn more at filmsummit.playbackonline.ca
URL:https://reelgreen.ca/event/playback-film-summit-2022/
CATEGORIES:Motion Picture
END:VEVENT
BEGIN:VEVENT
DTSTART;TZID=America/Vancouver:20221128T010000
DTEND;TZID=America/Vancouver:20221202T005959
DTSTAMP:20260425T060256
CREATED:20221011T203949Z
LAST-MODIFIED:20221011T203949Z
UID:36169-1669597200-1669942799@reelgreen.ca
SUMMARY:Content London 2022
DESCRIPTION:Content London is one of the most stimulating events in the global content industry calendar. Over three days it brings the global drama\, formats and factual communities together around a conference\, awards and networking agenda. \nRegistration and opening night cocktails from 5:00 pm GMT\, Monday November 28\, 2022. Conference programme starts 9:00 am GMT on  Tuesday November 29\, 2022\, finishing at 5:00 pm GMT\, Thursday December 1\, 2022. \nIn the event that Content London 2022 is cancelled as a face-to-face event or you are unable to travel due to official travel restrictions\, delegate tickets are fully transferrable to Content London 2023 or can be converted into a C21 Access-All-Areas Subscription\, which includes all premium C21 news\, in-depth features\, reports\, Schedule Watch and access to all ‘ON DEMAND’ digital events. \nLearn more and register here 
URL:https://reelgreen.ca/event/content-london-2022/
CATEGORIES:Motion Picture
END:VEVENT
BEGIN:VEVENT
DTSTART;TZID=America/Vancouver:20221130T010000
DTEND;TZID=America/Vancouver:20221205T005959
DTSTAMP:20260425T060256
CREATED:20221005T210158Z
LAST-MODIFIED:20221005T210158Z
UID:36094-1669770000-1670201999@reelgreen.ca
SUMMARY:Whistler Film Festival 2022
DESCRIPTION:The 22nd edition of the Whistler Film Festival will be an in-person and online event connecting audiences\, filmmakers\, and industry with the films we love\, industry insights we need\, and the human connection we crave. Events include film premieres\, industry summits\, talent programs\, events\, and special guest appearances by actors and directors. \nLEARN MORE
URL:https://reelgreen.ca/event/whistler-film-festival-2022/
CATEGORIES:Motion Picture
END:VEVENT
END:VCALENDAR