BEGIN:VCALENDAR
VERSION:2.0
PRODID:-//Reel Green™ - ECPv6.15.20//NONSGML v1.0//EN
CALSCALE:GREGORIAN
METHOD:PUBLISH
X-WR-CALNAME:Reel Green™
X-ORIGINAL-URL:https://reelgreen.ca
X-WR-CALDESC:Events for Reel Green™
REFRESH-INTERVAL;VALUE=DURATION:PT1H
X-Robots-Tag:noindex
X-PUBLISHED-TTL:PT1H
BEGIN:VTIMEZONE
TZID:America/Vancouver
BEGIN:DAYLIGHT
TZOFFSETFROM:-0800
TZOFFSETTO:-0700
TZNAME:PDT
DTSTART:20210314T100000
END:DAYLIGHT
BEGIN:STANDARD
TZOFFSETFROM:-0700
TZOFFSETTO:-0800
TZNAME:PST
DTSTART:20211107T090000
END:STANDARD
BEGIN:DAYLIGHT
TZOFFSETFROM:-0800
TZOFFSETTO:-0700
TZNAME:PDT
DTSTART:20220313T100000
END:DAYLIGHT
BEGIN:STANDARD
TZOFFSETFROM:-0700
TZOFFSETTO:-0800
TZNAME:PST
DTSTART:20221106T090000
END:STANDARD
BEGIN:DAYLIGHT
TZOFFSETFROM:-0800
TZOFFSETTO:-0700
TZNAME:PDT
DTSTART:20230312T100000
END:DAYLIGHT
BEGIN:STANDARD
TZOFFSETFROM:-0700
TZOFFSETTO:-0800
TZNAME:PST
DTSTART:20231105T090000
END:STANDARD
END:VTIMEZONE
BEGIN:VEVENT
DTSTART;TZID=America/Vancouver:20221128T010000
DTEND;TZID=America/Vancouver:20221202T005959
DTSTAMP:20260425T042459
CREATED:20221011T203949Z
LAST-MODIFIED:20221011T203949Z
UID:36169-1669597200-1669942799@reelgreen.ca
SUMMARY:Content London 2022
DESCRIPTION:Content London is one of the most stimulating events in the global content industry calendar. Over three days it brings the global drama\, formats and factual communities together around a conference\, awards and networking agenda. \nRegistration and opening night cocktails from 5:00 pm GMT\, Monday November 28\, 2022. Conference programme starts 9:00 am GMT on  Tuesday November 29\, 2022\, finishing at 5:00 pm GMT\, Thursday December 1\, 2022. \nIn the event that Content London 2022 is cancelled as a face-to-face event or you are unable to travel due to official travel restrictions\, delegate tickets are fully transferrable to Content London 2023 or can be converted into a C21 Access-All-Areas Subscription\, which includes all premium C21 news\, in-depth features\, reports\, Schedule Watch and access to all ‘ON DEMAND’ digital events. \nLearn more and register here 
URL:https://reelgreen.ca/event/content-london-2022/
CATEGORIES:Motion Picture
END:VEVENT
BEGIN:VEVENT
DTSTART;TZID=America/Vancouver:20221130T010000
DTEND;TZID=America/Vancouver:20221205T005959
DTSTAMP:20260425T042459
CREATED:20221005T210158Z
LAST-MODIFIED:20221005T210158Z
UID:36094-1669770000-1670201999@reelgreen.ca
SUMMARY:Whistler Film Festival 2022
DESCRIPTION:The 22nd edition of the Whistler Film Festival will be an in-person and online event connecting audiences\, filmmakers\, and industry with the films we love\, industry insights we need\, and the human connection we crave. Events include film premieres\, industry summits\, talent programs\, events\, and special guest appearances by actors and directors. \nLEARN MORE
URL:https://reelgreen.ca/event/whistler-film-festival-2022/
CATEGORIES:Motion Picture
END:VEVENT
END:VCALENDAR