BEGIN:VCALENDAR
VERSION:2.0
PRODID:-//Reel Green™ - ECPv6.15.20//NONSGML v1.0//EN
CALSCALE:GREGORIAN
METHOD:PUBLISH
X-WR-CALNAME:Reel Green™
X-ORIGINAL-URL:https://reelgreen.ca
X-WR-CALDESC:Events for Reel Green™
REFRESH-INTERVAL;VALUE=DURATION:PT1H
X-Robots-Tag:noindex
X-PUBLISHED-TTL:PT1H
BEGIN:VTIMEZONE
TZID:America/Vancouver
BEGIN:DAYLIGHT
TZOFFSETFROM:-0800
TZOFFSETTO:-0700
TZNAME:PDT
DTSTART:20220313T100000
END:DAYLIGHT
BEGIN:STANDARD
TZOFFSETFROM:-0700
TZOFFSETTO:-0800
TZNAME:PST
DTSTART:20221106T090000
END:STANDARD
BEGIN:DAYLIGHT
TZOFFSETFROM:-0800
TZOFFSETTO:-0700
TZNAME:PDT
DTSTART:20230312T100000
END:DAYLIGHT
BEGIN:STANDARD
TZOFFSETFROM:-0700
TZOFFSETTO:-0800
TZNAME:PST
DTSTART:20231105T090000
END:STANDARD
BEGIN:DAYLIGHT
TZOFFSETFROM:-0800
TZOFFSETTO:-0700
TZNAME:PDT
DTSTART:20240310T100000
END:DAYLIGHT
BEGIN:STANDARD
TZOFFSETFROM:-0700
TZOFFSETTO:-0800
TZNAME:PST
DTSTART:20241103T090000
END:STANDARD
END:VTIMEZONE
BEGIN:VEVENT
DTSTART;TZID=America/Vancouver:20230427T010000
DTEND;TZID=America/Vancouver:20230508T005959
DTSTAMP:20260424T203759
CREATED:20230215T053507Z
LAST-MODIFIED:20230215T053507Z
UID:39747-1682557200-1683507599@reelgreen.ca
SUMMARY:Hot Docs Canadian International Documentary Festival 2023
DESCRIPTION:The Hot Docs Canadian International Documentary Festival is the largest documentary festival in North America.
URL:https://reelgreen.ca/event/hot_docs_2023/
CATEGORIES:Motion Picture
END:VEVENT
BEGIN:VEVENT
DTSTART;TZID=America/Vancouver:20230427T010000
DTEND;TZID=America/Vancouver:20230508T005959
DTSTAMP:20260424T203759
CREATED:20230421T231629Z
LAST-MODIFIED:20230421T231629Z
UID:41525-1682557200-1683507599@reelgreen.ca
SUMMARY:Hot Docs Canadian International Documentary Festival
DESCRIPTION:The Hot Docs Canadian International Documentary Festival is the largest documentary festival in North America. The event takes place annually in Toronto\, Ontario\, Canada.
URL:https://reelgreen.ca/event/hot-docs-canadian-international-documentary-festival/
CATEGORIES:Motion Picture
END:VEVENT
BEGIN:VEVENT
DTSTART;TZID=America/Vancouver:20230504T010000
DTEND;TZID=America/Vancouver:20230515T005959
DTSTAMP:20260424T203759
CREATED:20230215T053507Z
LAST-MODIFIED:20230215T053507Z
UID:39751-1683162000-1684112399@reelgreen.ca
SUMMARY:DOXA Documentary Film Festival 2023
DESCRIPTION:Welcome to the 22nd annual DOXA Documentary Film Festival! This year’s festival is taking place in theatres during festival dates\, with repeat online screenings from May 15 to 24. DOXA is presented by The Documentary Media Society\, a Vancouver-based non-profit\, charitable society (incorporated in 1998) devoted to presenting independent and innovative documentaries to Vancouver audiences. \nBetween May 4-14\, 2023\, DOXA will offer an exceptional selection of films\, filmmaker Q&As and Industry events. In-person screenings will take place at: \n\nThe Cinematheque\nVIFF Centre\nSFU Goldcorp Centre for the Arts\n\nIn-person Industry events and festival socials will be held at: \n\nSFU’s World Arts Centre\nThe Post at 750\n\nOnline films are available through the DOXA Eventive page\, and are geo-blocked to Canada; virtual tickets will be limited.
URL:https://reelgreen.ca/event/doxa-documentary-film-festival-2023/
CATEGORIES:Motion Picture
END:VEVENT
BEGIN:VEVENT
DTSTART;TZID=America/Vancouver:20230505T010000
DTEND;TZID=America/Vancouver:20230508T005959
DTSTAMP:20260424T203759
CREATED:20230215T053507Z
LAST-MODIFIED:20230215T053507Z
UID:39752-1683248400-1683507599@reelgreen.ca
SUMMARY:Northern FanCon 2023
DESCRIPTION:Northern FanCon is an Annual Convention that hosts Celebrities and Influential People in Film\, Books\, Animation\, Entertainment and more. We aspire to promote opportunities for anyone interested in all things pop culture to unite and celebrate fandoms. The next event is to be held in Prince George on May 5-7/2023 at CN Centre and Kin 1 Arena.
URL:https://reelgreen.ca/event/northernfancon2023/
CATEGORIES:Motion Picture
END:VEVENT
BEGIN:VEVENT
DTSTART;TZID=America/Vancouver:20230516T010000
DTEND;TZID=America/Vancouver:20230525T005959
DTSTAMP:20260424T203759
CREATED:20230215T053507Z
LAST-MODIFIED:20230215T053507Z
UID:39753-1684198800-1684976399@reelgreen.ca
SUMMARY:Cannes 2023
DESCRIPTION:At the heart of the world’s most prestigious film festival\, the Marché du Film welcomes participants from all over the world every year. To date\, it represents the largest international gathering of professionals in the film industry. \nOver 12\,500 film industry professionals head to Cannes each year to present and discover almost 4\,000 films and projects in development at 33 screening venues.
URL:https://reelgreen.ca/event/__trashed-8/
CATEGORIES:Motion Picture
END:VEVENT
BEGIN:VEVENT
DTSTART;TZID=America/Vancouver:20230516T010000
DTEND;TZID=America/Vancouver:20230525T005959
DTSTAMP:20260424T203759
CREATED:20230215T053507Z
LAST-MODIFIED:20230215T053507Z
UID:39754-1684198800-1684976399@reelgreen.ca
SUMMARY:Cannes XR 2023
DESCRIPTION:Cannes XR draws its energy from the long lasting success of the Festival de Cannes and the Marché du Film as the epicenter of excellence for film worldwide. By following this legacy\, Cannes XR aims to become the new global reference for immersive art\, empower artists and professionals and broaden their possibilities throughout the global film industry.
URL:https://reelgreen.ca/event/__trashed-9/
CATEGORIES:Motion Picture
END:VEVENT
BEGIN:VEVENT
DTSTART;TZID=America/Vancouver:20230518T010000
DTEND;TZID=America/Vancouver:20230520T005959
DTSTAMP:20260424T203759
CREATED:20230503T232927Z
LAST-MODIFIED:20230503T232927Z
UID:42010-1684371600-1684544399@reelgreen.ca
SUMMARY:Content LA
DESCRIPTION:A two-day conference and development market connecting the domestic US scripted\, unscripted\, FAST channels and copro business with international partners
URL:https://reelgreen.ca/event/content-la/
CATEGORIES:Motion Picture
END:VEVENT
BEGIN:VEVENT
DTSTART;TZID=America/Vancouver:20230530T010000
DTEND;TZID=America/Vancouver:20230602T005959
DTSTAMP:20260424T203759
CREATED:20230428T231431Z
LAST-MODIFIED:20230428T231431Z
UID:41898-1685408400-1685667599@reelgreen.ca
SUMMARY:SHOWCANADA 2023
DESCRIPTION:From the stunning rustic coast to the top of breathtaking soaring mountains\, ShowCanada 2023 welcomes you to Vancouver\, May 30 – June 1. \nJoin us for an exciting conference along with the studios\, theatre chains and a number of independent theatres for three days of presentations\, learning\, promotion\, networking and plenty of fresh ocean air and west coast hospitality. \nFind more information and register HERE.
URL:https://reelgreen.ca/event/showcanada-2023/
CATEGORIES:Motion Picture
END:VEVENT
END:VCALENDAR