BEGIN:VCALENDAR
VERSION:2.0
PRODID:-//Reel Green™ - ECPv6.15.20//NONSGML v1.0//EN
CALSCALE:GREGORIAN
METHOD:PUBLISH
X-ORIGINAL-URL:https://reelgreen.ca
X-WR-CALDESC:Events for Reel Green™
REFRESH-INTERVAL;VALUE=DURATION:PT1H
X-Robots-Tag:noindex
X-PUBLISHED-TTL:PT1H
BEGIN:VTIMEZONE
TZID:America/Vancouver
BEGIN:DAYLIGHT
TZOFFSETFROM:-0800
TZOFFSETTO:-0700
TZNAME:PDT
DTSTART:20220313T100000
END:DAYLIGHT
BEGIN:STANDARD
TZOFFSETFROM:-0700
TZOFFSETTO:-0800
TZNAME:PST
DTSTART:20221106T090000
END:STANDARD
BEGIN:DAYLIGHT
TZOFFSETFROM:-0800
TZOFFSETTO:-0700
TZNAME:PDT
DTSTART:20230312T100000
END:DAYLIGHT
BEGIN:STANDARD
TZOFFSETFROM:-0700
TZOFFSETTO:-0800
TZNAME:PST
DTSTART:20231105T090000
END:STANDARD
BEGIN:DAYLIGHT
TZOFFSETFROM:-0800
TZOFFSETTO:-0700
TZNAME:PDT
DTSTART:20240310T100000
END:DAYLIGHT
BEGIN:STANDARD
TZOFFSETFROM:-0700
TZOFFSETTO:-0800
TZNAME:PST
DTSTART:20241103T090000
END:STANDARD
END:VTIMEZONE
BEGIN:VEVENT
DTSTART;TZID=America/Vancouver:20230530T010000
DTEND;TZID=America/Vancouver:20230602T005959
DTSTAMP:20260424T191510
CREATED:20230428T231431Z
LAST-MODIFIED:20230428T231431Z
UID:41898-1685408400-1685667599@reelgreen.ca
SUMMARY:SHOWCANADA 2023
DESCRIPTION:From the stunning rustic coast to the top of breathtaking soaring mountains\, ShowCanada 2023 welcomes you to Vancouver\, May 30 – June 1. \nJoin us for an exciting conference along with the studios\, theatre chains and a number of independent theatres for three days of presentations\, learning\, promotion\, networking and plenty of fresh ocean air and west coast hospitality. \nFind more information and register HERE.
URL:https://reelgreen.ca/event/showcanada-2023/
CATEGORIES:Motion Picture
END:VEVENT
BEGIN:VEVENT
DTSTART;TZID=America/Vancouver:20230601T010000
DTEND;TZID=America/Vancouver:20231016T005959
DTSTAMP:20260424T191510
CREATED:20231006T170226Z
LAST-MODIFIED:20231006T170226Z
UID:46458-1685581200-1697417999@reelgreen.ca
SUMMARY:Submissions Open for the Gender Equity in Media Festival (GEMFest)
DESCRIPTION:Celebrating its 19th year\, the Gender Equity in Media Festival (GEMFest)\, previously known as the Vancouver International Women in Film Festival (VIWFF)\, presents a captivating array of short and feature-length films. These films\, spanning various genres such as narrative\, documentary\, experimental\, and animation\, are crafted by both established and emerging women and gender-diverse filmmakers hailing from across the globe. \n 
URL:https://reelgreen.ca/event/submissions-open-for-the-gender-equity-in-media-festival-gemfest/
CATEGORIES:Motion Picture
END:VEVENT
BEGIN:VEVENT
DTSTART;TZID=America/Vancouver:20230602T010000
DTEND;TZID=America/Vancouver:20230612T005959
DTSTAMP:20260424T191510
CREATED:20230512T183046Z
LAST-MODIFIED:20230512T183046Z
UID:42338-1685667600-1686531599@reelgreen.ca
SUMMARY:Vancouver Short Film Festival 2023
DESCRIPTION:The Vancouver Short Film Festival (VSFF) is thrilled to be back in theatres for its 13th annual festival\, which will showcase innovative and original short films from across Canada. This year’s festival features 57 films across six programs\, including 13 films in the popular After Dark block. All of this year’s films will screen in-person at the VIFF Centre from June 2nd – 4th. Films will also be available online via Eventive Virtual from June 2nd – 11th. \nTheir 2023 festival is one of “Rising Stars\, Revolutionary Stories”\, with a lineup that features bold storytelling and daring experimentation from some of Canada’s most talented filmmakers. VSFF is proud to highlight British Columbia’s homegrown artists with 45 films from BC filmmakers\, and to give a platform to up-and-coming talent by including 14 student films.  \n\n\nVSFF has organized a number of filmmaker-exclusive events to take place at the ANNEX (823 Seymour St) during the festival. These include networking sessions\, industry roundtables\, and an awards presentation that will see the festival give out over $30\,000 in cash and in-kind prizes. These prizes are courtesy of our generous festival sponsors.\n\nTickets and festival passes are on sale now at https://vsff.eventive.org/welcome. To explore VSFF’s complete 2023 programming\, visit www.vsff.com/films\nLearn more about the festival here. \n 
URL:https://reelgreen.ca/event/vancouver-short-film-festival-2023/
CATEGORIES:Motion Picture,Reel Green
END:VEVENT
BEGIN:VEVENT
DTSTART;TZID=America/Vancouver:20230606T010000
DTEND;TZID=America/Vancouver:20230609T005959
DTSTAMP:20260424T191510
CREATED:20230530T164708Z
LAST-MODIFIED:20230530T164708Z
UID:43528-1686013200-1686272399@reelgreen.ca
SUMMARY:One Stop Business Workshop
DESCRIPTION:CBC\, CAVCO\, and CMPA are hosting a fifth season of One Stop Business Workshop\, a series of FREE virtual information sessions that introduce emerging independent producers and content creators from traditionally underrepresented groups in the industry (Indigenous\, Black\, people of colour\, women\, LGBTQ2+\, and people with disabilities) to topics related to the business and financing of TV\, film\, and original digital content. \nThis year there will be three sessions: June 6\, 7 & 8. \nIf you want to catch up on any of the sessions from previous seasons\, check them out on the One Stop Workshop site \n\n\n\n\n  \nTuesday\, June 6\, 2023 @ 1:00pm ET \nCurrent media landscape: some new programs that you can tap into right now \nPanelists: Joan Jenkinson\, Black Screen Office; Kadon Douglas\, BIPOC TV & Film; Joy Loewen\, National Screen Institute \nModerated by: Andrew Morris\, Disability Screen Office \n—————————– \nWednesday\, June 7\, 2023 @ 1:00pm ET \nHow to budget: what are the challenges\, opportunities and best practices in the post pandemic era and some tips for managing lower budget shows. \nPanelists: Deborah Patz\, Telefilm; Lauren Corber\, LoCo Motion Pictures; Sean O’Neill\, Visitor Media \nModerated by: Anya Mckenzie\, CBC Business & Rights \n—————————– \nThursday\, June 8\, 2023 @ 1:00pm ET \nWho’s got the $: funding and financing sources particularly for equity deserving creators \nPanelists: Marcia Douglas\, Canadian Media Fund; Margaret Lewis\, Royal Bank of Canada; Zarqa Nawaz\, Fundamentalist Films; Ell McEachern\, 3 Story Pictures \nModerated by: Clara Lee\, CBC Business & Rights \n\n\n  \nLearn more and register here.
URL:https://reelgreen.ca/event/43528/
CATEGORIES:Motion Picture
END:VEVENT
BEGIN:VEVENT
DTSTART;TZID=America/Vancouver:20230611T010000
DTEND;TZID=America/Vancouver:20230615T005959
DTSTAMP:20260424T191510
CREATED:20230503T235628Z
LAST-MODIFIED:20230503T235628Z
UID:42018-1686445200-1686790799@reelgreen.ca
SUMMARY:Banff World Media Festival 2023
DESCRIPTION:With a 44-year tradition\, and set in one of the most inspiring locations on the planet\, BANFF is where partnerships are forged and new films and series are pitched\, developed and greenlit across scripted\, unscripted\, and kids content. With 45+ countries participating at the Festival and Rockie Awards each year\, it is an unparalleled international marketplace: one of the world’s largest gatherings bringing co-production and co-venture partners together. \nThe curated content program\, thought leadership and professional development are unrivaled. In addition to high-end keynotes\, topical panel discussions\, celebrity Master Classes and more\, BANFF offers exclusive facilitated networking and pre-set meeting opportunities to connect and do business with senior executives.
URL:https://reelgreen.ca/event/banff-world-media-festival-2023/
CATEGORIES:Motion Picture
END:VEVENT
BEGIN:VEVENT
DTSTART;TZID=America/Vancouver:20230627T100000
DTEND;TZID=America/Vancouver:20230627T110000
DTSTAMP:20260424T191510
CREATED:20230623T210329Z
LAST-MODIFIED:20230623T210329Z
UID:43936-1687860000-1687863600@reelgreen.ca
SUMMARY:Content Creator Chat - The Next 10: Celebrating 10 Years of TELUS STORYHIVE
DESCRIPTION:In celebration of TELUS STORYHIVE’s 10 Year Anniversary\, this June’s Content Creator Chat will welcome alumni from various STORYHIVE programs and special guests as they reflect and rejoice on the past\, present and future of STORYHIVE. In this chat\, the conversation focuses on celebrating 10 Years of STORYHIVE and the top lessons that funded STORYHIVERs have learned through their journeys\, and guidance to share with aspiring content creators. \nConversation Host: Prem Gill\, CEO of Creative BC and former TELUS team member who helped launch STORYHIVE \nFeaturing STORYHIVE program alumni: \nLeslie Bangamba\, 2021 Black Creators Edition\nHayley Gray\, 2018 Documentary Edition\, 2017 Music Video Edition\nShaelyn Johnston\, 2018 and 2022 Indigenous Storyteller Edition\nMichelle Ikwumonu\, Empowered Filmmaker Masterclass\, 2022 Indigenous Storyteller Edition\nAllyson Leet\, 2022 Voices\nMitch George\, 2022 Voices\nKeil Hunka\, 2022 Summer Crew\nKimiko Pocha\, 2022 Summer Crew \nDate: Tuesday\, June 27th\, 2023\nStart time: 10:00am PT\nEnd time: 11:30am PT \nWhere: STORYHIVE YouTube and TELUS Optik TV Channel 9 \nASL interpretation and Live Captioning will be present on all platforms. \nA recording will be available on the STORYHIVE YouTube page and TELUS Optik TV Channel 9 after the session. \nREGISTER HERE
URL:https://reelgreen.ca/event/content-creator-chat-the-next-10-celebrating-10-years-of-telus-storyhive/
CATEGORIES:Motion Picture
END:VEVENT
END:VCALENDAR