BEGIN:VCALENDAR
VERSION:2.0
PRODID:-//Reel Green™ - ECPv6.15.20//NONSGML v1.0//EN
CALSCALE:GREGORIAN
METHOD:PUBLISH
X-ORIGINAL-URL:https://reelgreen.ca
X-WR-CALDESC:Events for Reel Green™
REFRESH-INTERVAL;VALUE=DURATION:PT1H
X-Robots-Tag:noindex
X-PUBLISHED-TTL:PT1H
BEGIN:VTIMEZONE
TZID:America/Vancouver
BEGIN:DAYLIGHT
TZOFFSETFROM:-0800
TZOFFSETTO:-0700
TZNAME:PDT
DTSTART:20220313T100000
END:DAYLIGHT
BEGIN:STANDARD
TZOFFSETFROM:-0700
TZOFFSETTO:-0800
TZNAME:PST
DTSTART:20221106T090000
END:STANDARD
BEGIN:DAYLIGHT
TZOFFSETFROM:-0800
TZOFFSETTO:-0700
TZNAME:PDT
DTSTART:20230312T100000
END:DAYLIGHT
BEGIN:STANDARD
TZOFFSETFROM:-0700
TZOFFSETTO:-0800
TZNAME:PST
DTSTART:20231105T090000
END:STANDARD
BEGIN:DAYLIGHT
TZOFFSETFROM:-0800
TZOFFSETTO:-0700
TZNAME:PDT
DTSTART:20240310T100000
END:DAYLIGHT
BEGIN:STANDARD
TZOFFSETFROM:-0700
TZOFFSETTO:-0800
TZNAME:PST
DTSTART:20241103T090000
END:STANDARD
END:VTIMEZONE
BEGIN:VEVENT
DTSTART;TZID=America/Vancouver:20230601T010000
DTEND;TZID=America/Vancouver:20231016T005959
DTSTAMP:20260424T175434
CREATED:20231006T170226Z
LAST-MODIFIED:20231006T170226Z
UID:46458-1685581200-1697417999@reelgreen.ca
SUMMARY:Submissions Open for the Gender Equity in Media Festival (GEMFest)
DESCRIPTION:Celebrating its 19th year\, the Gender Equity in Media Festival (GEMFest)\, previously known as the Vancouver International Women in Film Festival (VIWFF)\, presents a captivating array of short and feature-length films. These films\, spanning various genres such as narrative\, documentary\, experimental\, and animation\, are crafted by both established and emerging women and gender-diverse filmmakers hailing from across the globe. \n 
URL:https://reelgreen.ca/event/submissions-open-for-the-gender-equity-in-media-festival-gemfest/
CATEGORIES:Motion Picture
END:VEVENT
BEGIN:VEVENT
DTSTART;TZID=America/Vancouver:20230711T010000
DTEND;TZID=America/Vancouver:20230716T005959
DTSTAMP:20260424T175434
CREATED:20230706T000007Z
LAST-MODIFIED:20230706T000007Z
UID:44221-1689037200-1689469199@reelgreen.ca
SUMMARY:Run N Gun 2023
DESCRIPTION:THE ULTIMATE FILMMAKER BATTLE OF THE BANDS \nWhat is Run N Gun?\nRun N Gun is Vancouver’s wildest filmmaking competition. Established in 2015\, Run N Gun is back with a vengeance. Over 450 films have been created through Run N Gun\, and it has become the biggest filmmaking event Vancouver has to offer!\nTHE NEXT RUN N GUN WILL HAPPEN JUNE 2023 – \n-Registration opens: April 20th on this website.\n-MiTribe Media May Mixer (Mingler for Run N Gun teams)\n-Run N Gun weekend June 9-11\n-Run N Gun 2023 Gala July 15th\n-Additional Screenings on July 11\, 12\, 13 \nLearn more here
URL:https://reelgreen.ca/event/run-n-gun-2023/
CATEGORIES:Motion Picture
END:VEVENT
BEGIN:VEVENT
DTSTART;TZID=America/Vancouver:20230726T010000
DTEND;TZID=America/Vancouver:20230730T005959
DTSTAMP:20260424T175434
CREATED:20230215T053517Z
LAST-MODIFIED:20230215T053517Z
UID:39777-1690333200-1690678799@reelgreen.ca
SUMMARY:Frontières International Co-Production Market at Fantasia Film Festival 2023
DESCRIPTION:Frontières is an international co-production market and networking platform specifically focused on genre film financing and co-production between Europe and North America.
URL:https://reelgreen.ca/event/frontieres_2023/
CATEGORIES:Motion Picture
END:VEVENT
BEGIN:VEVENT
DTSTART;TZID=America/Vancouver:20230728T010000
DTEND;TZID=America/Vancouver:20230731T005959
DTSTAMP:20260424T175434
CREATED:20230705T235158Z
LAST-MODIFIED:20230705T235158Z
UID:44218-1690506000-1690765199@reelgreen.ca
SUMMARY:EXNW: East by Northwest Vancouver 2023
DESCRIPTION:EXNW IS THE FUTURE OF RACIALIZED GLOBAL STORYTELLING AND ENTERTAINMENT ACROSS ALL CONTINENTS. \nHosted annually in Vancouver\, British Columbia\, this momentous event will primarily focus on new pathways\, platforms and channels for empowering racialized content creators to connect with industry leaders and their global audience. Through these intersections\, new systems can be created within our screen entertainment industries that serve the unique needs of racialized creatives and the audiences engaged in their content. \nDate: July 28-30\, 2023 \nLearn more here
URL:https://reelgreen.ca/event/exnw-east-by-northwest-vancouver-2023/
CATEGORIES:Motion Picture
END:VEVENT
END:VCALENDAR