BEGIN:VCALENDAR
VERSION:2.0
PRODID:-//Reel Green™ - ECPv6.15.20//NONSGML v1.0//EN
CALSCALE:GREGORIAN
METHOD:PUBLISH
X-WR-CALNAME:Reel Green™
X-ORIGINAL-URL:https://reelgreen.ca
X-WR-CALDESC:Events for Reel Green™
REFRESH-INTERVAL;VALUE=DURATION:PT1H
X-Robots-Tag:noindex
X-PUBLISHED-TTL:PT1H
BEGIN:VTIMEZONE
TZID:America/Vancouver
BEGIN:DAYLIGHT
TZOFFSETFROM:-0800
TZOFFSETTO:-0700
TZNAME:PDT
DTSTART:20220313T100000
END:DAYLIGHT
BEGIN:STANDARD
TZOFFSETFROM:-0700
TZOFFSETTO:-0800
TZNAME:PST
DTSTART:20221106T090000
END:STANDARD
BEGIN:DAYLIGHT
TZOFFSETFROM:-0800
TZOFFSETTO:-0700
TZNAME:PDT
DTSTART:20230312T100000
END:DAYLIGHT
BEGIN:STANDARD
TZOFFSETFROM:-0700
TZOFFSETTO:-0800
TZNAME:PST
DTSTART:20231105T090000
END:STANDARD
BEGIN:DAYLIGHT
TZOFFSETFROM:-0800
TZOFFSETTO:-0700
TZNAME:PDT
DTSTART:20240310T100000
END:DAYLIGHT
BEGIN:STANDARD
TZOFFSETFROM:-0700
TZOFFSETTO:-0800
TZNAME:PST
DTSTART:20241103T090000
END:STANDARD
END:VTIMEZONE
BEGIN:VEVENT
DTSTART;TZID=America/Vancouver:20230601T010000
DTEND;TZID=America/Vancouver:20231016T005959
DTSTAMP:20260424T144750
CREATED:20231006T170226Z
LAST-MODIFIED:20231006T170226Z
UID:46458-1685581200-1697417999@reelgreen.ca
SUMMARY:Submissions Open for the Gender Equity in Media Festival (GEMFest)
DESCRIPTION:Celebrating its 19th year\, the Gender Equity in Media Festival (GEMFest)\, previously known as the Vancouver International Women in Film Festival (VIWFF)\, presents a captivating array of short and feature-length films. These films\, spanning various genres such as narrative\, documentary\, experimental\, and animation\, are crafted by both established and emerging women and gender-diverse filmmakers hailing from across the globe. \n 
URL:https://reelgreen.ca/event/submissions-open-for-the-gender-equity-in-media-festival-gemfest/
CATEGORIES:Motion Picture
END:VEVENT
BEGIN:VEVENT
DTSTART;TZID=America/Vancouver:20230904T010000
DTEND;TZID=America/Vancouver:20230907T005959
DTSTAMP:20260424T144750
CREATED:20230728T225321Z
LAST-MODIFIED:20230728T225321Z
UID:44807-1693789200-1694048399@reelgreen.ca
SUMMARY:MIP Africa 2023
DESCRIPTION:MIP Africa offers a unique experience of pre-scheduled one-to-one matchmaking that guarantees meetings between content creatives\, producers and buyers as well as sellers to support programmes\, sales and co-production partnerships. It’s a thrilling opportunity to unwrap your freshest film and television content for African and global viewers. Deals are made through a magical mix of networking events and various business opportunities from morning until night\, all against the backdrop of the Host City of Cape Town. \nLearn more
URL:https://reelgreen.ca/event/mip-africa-2023/
CATEGORIES:Motion Picture
END:VEVENT
BEGIN:VEVENT
DTSTART;TZID=America/Vancouver:20230907T010000
DTEND;TZID=America/Vancouver:20230918T005959
DTSTAMP:20260424T144750
CREATED:20230810T210559Z
LAST-MODIFIED:20230810T210559Z
UID:45173-1694048400-1694998799@reelgreen.ca
SUMMARY:Toronto International Film Festival TIFF 2023
DESCRIPTION:TIFF is dedicated to presenting the best of international and Canadian cinema and creating transformational experiences for film lovers and creators of all ages and backgrounds. \nAs Canada’s premiere home of cinema\, TIFF offers screenings\, lectures\, discussions\, festivals\, workshops\, events\, professional development and opportunities to meet\, hear and learn from filmmakers from Canada and around the world. \nLearn more
URL:https://reelgreen.ca/event/toronto-international-film-festival-tiff-2023/
CATEGORIES:Motion Picture
ATTACH;FMTTYPE=image/jpeg:https://reelgreen.ca/wp-content/uploads/2023/08/FestivalStreet-e1691701548534.jpg
END:VEVENT
BEGIN:VEVENT
DTSTART;TZID=America/Vancouver:20230910T140000
DTEND;TZID=America/Vancouver:20230910T173000
DTSTAMP:20260424T144750
CREATED:20230807T144004Z
LAST-MODIFIED:20230807T144004Z
UID:45048-1694354400-1694367000@reelgreen.ca
SUMMARY:Sunday Shorts Film Festival 2023
DESCRIPTION:Sunday Shorts Film Festival \nA Creative BC Tax Credit Info session will take place at the Sunday Shorts Film Festival on September 10\, 2023. \nLEARN MORE
URL:https://reelgreen.ca/event/sunday-shorts-film-festival/
CATEGORIES:Motion Picture
ATTACH;FMTTYPE=image/png:https://reelgreen.ca/wp-content/uploads/2023/08/SundayShortsREDLOGO.png
END:VEVENT
BEGIN:VEVENT
DTSTART;TZID=America/Vancouver:20230911T010000
DTEND;TZID=America/Vancouver:20230914T005959
DTSTAMP:20260424T144750
CREATED:20230825T213033Z
LAST-MODIFIED:20230825T213033Z
UID:45658-1694394000-1694653199@reelgreen.ca
SUMMARY:Content Canada 2023
DESCRIPTION:Content Canada is an innovative\, purpose-driven market and conference during TIFF\, when the global content industry gathers in Toronto. \nTaking place from September 11 – 13\, 2023\, Content Canada will once again feature the entertainment industry’s best and brightest including top platforms\, broadcasters\, studios\, producers\, and content creators who will come together to meet\, network\, inspire and get business done. \nLearn more
URL:https://reelgreen.ca/event/content-canada-2023/
CATEGORIES:Motion Picture
ATTACH;FMTTYPE=image/jpeg:https://reelgreen.ca/wp-content/uploads/2023/08/contentcanada2022_WEB-e1692998911713.jpg
END:VEVENT
BEGIN:VEVENT
DTSTART;TZID=America/Vancouver:20230914T010000
DTEND;TZID=America/Vancouver:20230922T005959
DTSTAMP:20260424T144750
CREATED:20230623T093531Z
LAST-MODIFIED:20230623T093531Z
UID:39789-1694653200-1695344399@reelgreen.ca
SUMMARY:FIN Atlantic International Film Festival 2023
DESCRIPTION:FIN Atlantic International Film Festival is an eight-day celebration of film and media from around the world. It’s a festival that turns Halifax’s charming and historic coastal city into an international mecca for the arts\, abuzz with film lovers and filmmakers alike.
URL:https://reelgreen.ca/event/fin-atlantic-international-film-festival-2023/
CATEGORIES:Motion Picture
END:VEVENT
BEGIN:VEVENT
DTSTART;TZID=America/Vancouver:20230927T093000
DTEND;TZID=America/Vancouver:20230927T160000
DTSTAMP:20260424T144750
CREATED:20230825T214141Z
LAST-MODIFIED:20230825T214141Z
UID:45661-1695807000-1695830400@reelgreen.ca
SUMMARY:Research and Rights Clearance Workshop 2023
DESCRIPTION:Presented by the Documentary Organization of Canada: British Columba & Yukon & Northwest Territories Chapter\, is Elizabeth Klinck’s: Research and Rights Clearance Workshop.  \nLearn about navigating the world of film research and music clearances. Get tips on how to reduce costs and limit risks using stock footage\, still and recorded music. \nThe workshop explores three separate areas of research and clearances:\n1. Content/Editorial Research\n2. Visual Research\n3. Music Clearances \nSpecial areas for discussion include What is Copyright? The Current Rights Marketplace and Navigating YouTube and User Generated Content. \nE-handouts and a follow up one-on-one session for each participant are included with this workshop. \nDate/time: Wednesday September 27\, 2023 – 10 am to 4 pm\nLocation: UBC Robson Square\, 800 Robson Street\, Vancouver – Room C440\nCost: Members and students- $20; Non-members – $35 (Refreshments Included) \nTo learn more about Elizabeth Klinck\, visit her website: www.elizabethklinck.com \nRegister here
URL:https://reelgreen.ca/event/research-and-rights-clearance-workshop-2023/
CATEGORIES:Motion Picture
ATTACH;FMTTYPE=image/jpeg:https://reelgreen.ca/wp-content/uploads/2023/08/https___cdn.evbuc_.com_images_582682289_5479689186_1_original-e1692999668414.jpg
END:VEVENT
BEGIN:VEVENT
DTSTART;TZID=America/Vancouver:20230928T010000
DTEND;TZID=America/Vancouver:20231009T005959
DTSTAMP:20260424T144750
CREATED:20230515T043531Z
LAST-MODIFIED:20230515T043531Z
UID:39792-1695862800-1696813199@reelgreen.ca
SUMMARY:Vancouver International Film Festival 2023
DESCRIPTION:The Vancouver International Film Festival is an annual film festival held in Vancouver\, British Columbia
URL:https://reelgreen.ca/event/vancouver-international-film-festival-2023/
CATEGORIES:Motion Picture,Reel Green
END:VEVENT
BEGIN:VEVENT
DTSTART;TZID=America/Vancouver:20230928T010000
DTEND;TZID=America/Vancouver:20231009T005959
DTSTAMP:20260424T144750
CREATED:20230601T043531Z
LAST-MODIFIED:20230601T043531Z
UID:39793-1695862800-1696813199@reelgreen.ca
SUMMARY:Vancouver International Film Festival: VIFF AMP 2023
DESCRIPTION:VIFF Amp explores every aspect of the intersection of music and sound in visual media. Amp supports an annual cohort of songwriters\, composers\, music supervisors and managers through a competitive and juried application process\, with a focus on providing access to artists from traditionally marginalized communities. This four-day event features expertly curated masterclasses\, case studies\, panel discussions\, networking\, breakout sessions and musical showcases\, all of which are designed to develop skills and create connections that can excel a career in film and television. \nAttending Amp: Access to the summit is exclusive to members of the Amp cohort. Applications to be part of next year’s Amp cohort will open soon. Sign up to VIFF News to be notified.
URL:https://reelgreen.ca/event/vancouver-international-film-festival-amp-fest-2023/
CATEGORIES:Motion Picture
END:VEVENT
BEGIN:VEVENT
DTSTART;TZID=America/Vancouver:20230928T010000
DTEND;TZID=America/Vancouver:20231012T005959
DTSTAMP:20260424T144750
CREATED:20230921T171050Z
LAST-MODIFIED:20230921T171050Z
UID:46193-1695862800-1697072399@reelgreen.ca
SUMMARY:International South Asian Film Festival 2023
DESCRIPTION:iSAFF is an annual film festival dedicated to showing independent films connected to South Asia and the South Asian diaspora across the world. With a commitment to showcase unique storytelling and foster creativity\, this festival brings together filmmakers\, industry professionals\, and film enthusiasts from around the world. \n  \nLearn more
URL:https://reelgreen.ca/event/international-south-asian-film-festiva-2023/
CATEGORIES:Motion Picture
END:VEVENT
BEGIN:VEVENT
DTSTART;TZID=America/Vancouver:20230928T140000
DTEND;TZID=America/Vancouver:20230928T153000
DTSTAMP:20260424T144750
CREATED:20230920T233714Z
LAST-MODIFIED:20230920T233714Z
UID:46097-1695909600-1695915000@reelgreen.ca
SUMMARY:Rogers Indigenous Film Fund Program 2023 Info Sessions
DESCRIPTION:This September + October\, 2023 join Creative BC to learn about the Rogers Indigenous Film Fund (RIFF) Program. The RIFF program gives companies and creators financing assistance for early development work of a new project\, or ‘next phase’ early development work of an existing project. Eligible applicants can apply for up to $20\,000 to cover qualifying activities such as research and development\, community engagement\, as well as scriptwriting. \nGet all the details about the funding program\, connect directly with staff\, and learn how to apply. We look forward to answering all of your questions! \nCreative BC’s RIFF Program team will deliver online info sessions on the following dates: \nTuesday\, October 3 | 2:00 pm to 3:30 pm\nOnline – Register for this info session \nThursday\, October 5 | 2:00 pm to 3:30 pm\nOnline – Register for this info session \n\n\n\n\n\n\nLearn more about Creative BC’s funding programs here.
URL:https://reelgreen.ca/event/rogers-indigenous-film-fund-program-2023-info-sessions/
CATEGORIES:Motion Picture
ATTACH;FMTTYPE=image/png:https://reelgreen.ca/wp-content/uploads/2023/08/Creative-BC_RIFF-Program-23242.png
END:VEVENT
BEGIN:VEVENT
DTSTART;TZID=America/Vancouver:20230929T010000
DTEND;TZID=America/Vancouver:20231031T005959
DTSTAMP:20260424T144750
CREATED:20230929T194939Z
LAST-MODIFIED:20230929T194939Z
UID:46409-1695949200-1698713999@reelgreen.ca
SUMMARY:MIFA – RDVCANADA: Meet the Animations 2024
DESCRIPTION:Telefilm Canada is inviting Canadian animation production companies to apply for the second edition of RDVCANADA | Meet the Animations. \nUp to five producers from selected companies will receive personalized mentorship\, pitch preparation\, workshops\, and networking opportunities\, culminating in a chance to pitch at the Annecy International Animation Film Market (MIFA) in June 2024.
URL:https://reelgreen.ca/event/mifa-rdvcanada-meet-the-animations-2024/
CATEGORIES:Motion Picture
END:VEVENT
END:VCALENDAR