BEGIN:VCALENDAR
VERSION:2.0
PRODID:-//Reel Green™ - ECPv6.15.20//NONSGML v1.0//EN
CALSCALE:GREGORIAN
METHOD:PUBLISH
X-WR-CALNAME:Reel Green™
X-ORIGINAL-URL:https://reelgreen.ca
X-WR-CALDESC:Events for Reel Green™
REFRESH-INTERVAL;VALUE=DURATION:PT1H
X-Robots-Tag:noindex
X-PUBLISHED-TTL:PT1H
BEGIN:VTIMEZONE
TZID:America/Vancouver
BEGIN:DAYLIGHT
TZOFFSETFROM:-0800
TZOFFSETTO:-0700
TZNAME:PDT
DTSTART:20220313T100000
END:DAYLIGHT
BEGIN:STANDARD
TZOFFSETFROM:-0700
TZOFFSETTO:-0800
TZNAME:PST
DTSTART:20221106T090000
END:STANDARD
BEGIN:DAYLIGHT
TZOFFSETFROM:-0800
TZOFFSETTO:-0700
TZNAME:PDT
DTSTART:20230312T100000
END:DAYLIGHT
BEGIN:STANDARD
TZOFFSETFROM:-0700
TZOFFSETTO:-0800
TZNAME:PST
DTSTART:20231105T090000
END:STANDARD
BEGIN:DAYLIGHT
TZOFFSETFROM:-0800
TZOFFSETTO:-0700
TZNAME:PDT
DTSTART:20240310T100000
END:DAYLIGHT
BEGIN:STANDARD
TZOFFSETFROM:-0700
TZOFFSETTO:-0800
TZNAME:PST
DTSTART:20241103T090000
END:STANDARD
END:VTIMEZONE
BEGIN:VEVENT
DTSTART;TZID=America/Vancouver:20231031T010000
DTEND;TZID=America/Vancouver:20231106T005959
DTSTAMP:20260424T115517
CREATED:20230623T223613Z
LAST-MODIFIED:20230623T223613Z
UID:43946-1698714000-1699232399@reelgreen.ca
SUMMARY:American Film Market 2023
DESCRIPTION:AFM is the premier film acquisition\, development and networking event where more than $1 Billion in distribution and film financing deals are closed each year on completed films and those in every stage of development. More business-oriented than any other motion picture event\, thousands of professionals from all corners of our industry come together at AFM to develop\, showcase\, discover\, finance and license 1000s of independent films and projects destined for the world’s audiences. \nAt AFM\, participants can also attend The AFM Sessions – 30+ world class conferences and panels\, and connect with the independent film community’s decision makers\, all in one convenient location. \nAFM is the only sales market produced by the Independents for our industry. \nAFM 2023: October 31 – November 5\, 2023 \nLearn more here
URL:https://reelgreen.ca/event/american-film-market-2023/
CATEGORIES:Motion Picture
END:VEVENT
BEGIN:VEVENT
DTSTART;TZID=America/Vancouver:20231101T010000
DTEND;TZID=America/Vancouver:20231108T005959
DTSTAMP:20260424T115517
CREATED:20230215T053531Z
LAST-MODIFIED:20230215T053531Z
UID:39802-1698800400-1699405199@reelgreen.ca
SUMMARY:Reelworld Film Festival 2023
DESCRIPTION:Reelworld is the largest national platform dedicated to changing the face of the media landscape by empowering and showcasing Canadians identifying as Black\, Indigenous\, Asian\, South Asian\, Middle Eastern and Latinx in screen-based industries. \nLearn more
URL:https://reelgreen.ca/event/reelworld-film-festival-2023/
CATEGORIES:Motion Picture
END:VEVENT
BEGIN:VEVENT
DTSTART;TZID=America/Vancouver:20231102T010000
DTEND;TZID=America/Vancouver:20231113T005959
DTSTAMP:20260424T115517
CREATED:20230810T184043Z
LAST-MODIFIED:20230810T184043Z
UID:45139-1698886800-1699837199@reelgreen.ca
SUMMARY:Vancouver Asian Film Festival 2023
DESCRIPTION:The Vancouver Asian Film Festival (VAFF) will highlight an array of unique and outstanding talent\, with both emerging and established Asian Canadian and Asian American writers\, producers\, and directors showcasing their latest work. \nFor 2023 VAFF will continue with a ‘hybrid’ festival model\, taking place over 11 days. The extended festival kicks off with 4 days of VAFF In-Theatre events (November 2-5)\, followed by 7 days of VAFF Virtual programs (November 6-12)\, and the festival’s OVASIAN awards ceremony on November 12. Stay tuned for full details of the entire program. \nLearn more
URL:https://reelgreen.ca/event/vancouver-asian-film-festival-2023/
CATEGORIES:Motion Picture
END:VEVENT
BEGIN:VEVENT
DTSTART;TZID=America/Vancouver:20231103T010000
DTEND;TZID=America/Vancouver:20231105T005959
DTSTAMP:20260424T115517
CREATED:20231027T205520Z
LAST-MODIFIED:20231027T205520Z
UID:47011-1698973200-1699145999@reelgreen.ca
SUMMARY:Factual West 2023
DESCRIPTION:FactualWEST\, a conference in its 8th year\, is set to run on November 3 & 4 in Vancouver\, showcasing the resilience of the non-scripted TV community. The event aims to bring together industry professionals\, including showrunners and creators\, to discuss\, learn\, and gain insights on sharpening skills in factual\, lifestyle\, and documentary television production\, offering sessions\, panels\, pitch opportunities\, and networking with key industry figures. \nThis year’s program features discussions on various shows\, augmented reality\, and keynote speeches\, providing a valuable training ground for attendees to celebrate achievements\, exchange ideas\, and elevate their craft.
URL:https://reelgreen.ca/event/factual-west-2023/
CATEGORIES:Motion Picture
END:VEVENT
BEGIN:VEVENT
DTSTART;TZID=America/Vancouver:20231108T010000
DTEND;TZID=America/Vancouver:20231120T005959
DTSTAMP:20260424T115517
CREATED:20230915T181850Z
LAST-MODIFIED:20230915T181850Z
UID:46044-1699405200-1700441999@reelgreen.ca
SUMMARY:IDFA Forum 2023
DESCRIPTION:IDFA Forum is one of the most influential meeting places for filmmakers\, creators\, producers\, and industry representatives working on ground-breaking creative feature documentaries and new media projects. \nLearn more
URL:https://reelgreen.ca/event/idfa-forum-2023/
CATEGORIES:Motion Picture
END:VEVENT
BEGIN:VEVENT
DTSTART;TZID=America/Vancouver:20231109T010000
DTEND;TZID=America/Vancouver:20231113T005959
DTSTAMP:20260424T115517
CREATED:20231019T183613Z
LAST-MODIFIED:20231019T183613Z
UID:46669-1699491600-1699837199@reelgreen.ca
SUMMARY:Spark Animation Festival 2023
DESCRIPTION:This year\, the SPARK ANIMATION Festival marks its 15th anniversary. Over the past decade and a half\, the festival has evolved into a global hub for showcasing groundbreaking animated works\, fostering industry connections\, and inspiring the next generation of animators. \nAttendees are invited to join the festival in commemorating this milestone anniversary\, where a dazzling showcase of talent and innovation promises to offer a glimpse into the vibrant and ever-evolving world of animation.
URL:https://reelgreen.ca/event/spark-animation-festival-2023/
CATEGORIES:Motion Picture
END:VEVENT
BEGIN:VEVENT
DTSTART;TZID=America/Vancouver:20231109T173000
DTEND;TZID=America/Vancouver:20231109T210000
DTSTAMP:20260424T115517
CREATED:20231025T223149Z
LAST-MODIFIED:20231025T223149Z
UID:46789-1699551000-1699563600@reelgreen.ca
SUMMARY:Reel Green™ Presents: The Magnitude of All Things – Free Screening and Q&A
DESCRIPTION:“Climate change is not happening in the distant future; it is kicking down the front door\, flooding homes\, poisoning water and destroying communities. The connection between humanity and the environment is stated plainly by Australia’s Wonnarua Traditional Custodians: “If this land hurts\, we hurt.” Like ash from a distant fire\, grief on this scale touches everything. But coming to terms with the brutal reality of climate breakdown requires more than empty words and gestures. When hope is lost\, the real work begins.” – The Magnitude of All Things \nJoin Reel Green™ at Science World for a free screening of this award-winning documentary\, followed by a special Q&A with the director of the film\, Jennifer Abbott.  \nDate: Thursday\, November 9\, 2023 \nTime: Doors open at 5:30pm\, screening starts at 6:00pm \nLocation: Science World – Science Theatre | 1455 Quebec St\, Vancouver\, BC V6A 3Z7  \nPresented in partnership with: Reel Green™ and Science World \nThank you to our sponsors: Canadian Media Producers Association and Directors Guild of Canada \nTickets are now available here! \nAbout the Film \nThe Magnitude of All Things (2020) (86 min) \nIn Jennifer Abbott’s cinematic journey\, the Sundance award-winning Director (The Corporation) draws intimate parallels between the experiences of grief—both personal and planetary. Stories from the frontlines of climate change merge with recollections from the filmmaker’s childhood on Ontario’s Georgian Bay. What do these stories have in common? The answer\, surprisingly\, is everything. The film takes us around the world to witness a planet in crisis: from Australia’s catastrophic fires and dying Great Barrier Reef\, to the island nation of Kiribati\, drowned by rising sea levels. In Nunatsiavut\, melting ice permanently alters the landscape\, while in the Amazon rainforest\, Indigenous people fight a desperate battle against oil and mining extraction. \nWatch the trailer below:
URL:https://reelgreen.ca/event/reel-green-presents-the-magnitude-of-all-things-free-screening-and-qa/
CATEGORIES:Motion Picture,Reel Green
ATTACH;FMTTYPE=image/jpeg:https://reelgreen.ca/wp-content/uploads/2023/10/MicrosoftTeams-image-19-scaled-1.jpg
END:VEVENT
BEGIN:VEVENT
DTSTART;TZID=America/Vancouver:20231120T010000
DTEND;TZID=America/Vancouver:20231125T005959
DTSTAMP:20260424T115517
CREATED:20230818T180205Z
LAST-MODIFIED:20230818T180205Z
UID:45454-1700442000-1700873999@reelgreen.ca
SUMMARY:Film Bazaar 2023
DESCRIPTION:Each year during India’s Film Bazaar more than 200 scripts\, projects and films from South Asia are pitched to various producers\, buyers\, sales agents and film festival programmers from across the world. \nThe 17th edition of Film Bazaar will be held at the Marriott Resort\, Goa between Nov 20 – 24\, 2023. \nLearn more
URL:https://reelgreen.ca/event/film-bazaar-2023/
CATEGORIES:Motion Picture
ATTACH;FMTTYPE=image/jpeg:https://reelgreen.ca/wp-content/uploads/2023/08/filmbazaar-e1692381439917.jpg
END:VEVENT
BEGIN:VEVENT
DTSTART;TZID=America/Vancouver:20231124T010000
DTEND;TZID=America/Vancouver:20231126T005959
DTSTAMP:20260424T115517
CREATED:20231102T184157Z
LAST-MODIFIED:20231102T184157Z
UID:47182-1700787600-1700960399@reelgreen.ca
SUMMARY:DGC BC Director Spotlight
DESCRIPTION:The DGC BC Director Spotlight is scheduled to be held at the Anvil Centre in New Westminster on November 24 and 25. The agenda includes panels and masterclasses featuring prominent industry professionals\, networking receptions\, and the much-anticipated DGC BC Greenlight\, featuring live pitches and esteemed guest judges. \nThe lineup for this year’s occasion includes several engaging events: \n\nA screening of “Doug and the Slugs and Me\,” followed by a Q&A session with Director Teresa Alfeld.\nA focused discussion on MOW (Movie of the Week) Directors in a dedicated panel.\nScreening of Riverdale S4: Chapter Fifty-Eight\, followed by a Q&A session with Director Gabriel Correa.\nAn in-depth conversation with Moira Walley-Beckett (known for “Breaking Bad” and “Anne with an E”).\nA masterclass with Director Brad Peyton\, recognized for his work on “Rampage” and “San Andreas.”\n\nThis two-day event is a significant opportunity for film and television enthusiasts eager to support local Directorial talent and gain insights into the creative processes.
URL:https://reelgreen.ca/event/dgc-bc-director-spotlight/
CATEGORIES:Motion Picture
END:VEVENT
BEGIN:VEVENT
DTSTART;TZID=America/Vancouver:20231128T010000
DTEND;TZID=America/Vancouver:20231201T005959
DTSTAMP:20260424T115517
CREATED:20230818T185448Z
LAST-MODIFIED:20230818T185448Z
UID:45491-1701133200-1701392399@reelgreen.ca
SUMMARY:Content London 2023
DESCRIPTION:Content London is the world’s leading development market and conference. It takes place over three days between November 27-30\, 2023 bringing together more than 3000 leading content executives from all over the world. It remains the most effective place to get your show made. \nLearn more
URL:https://reelgreen.ca/event/content-london-2023/
CATEGORIES:Motion Picture
ATTACH;FMTTYPE=image/jpeg:https://reelgreen.ca/wp-content/uploads/2023/08/cl2019_topbannernew4events_notloggedin-scaled-e1692384843397.jpg
END:VEVENT
BEGIN:VEVENT
DTSTART;TZID=America/Vancouver:20231128T010000
DTEND;TZID=America/Vancouver:20231202T005959
DTSTAMP:20260424T115517
CREATED:20230818T181002Z
LAST-MODIFIED:20230818T181002Z
UID:45477-1701133200-1701478799@reelgreen.ca
SUMMARY:World Congress of Science & Factual Producers 2023
DESCRIPTION:As the home of smart content\, Congress is a dynamic community with sessions that surprise\, speakers who make you think\, and fresh insights into future trends and technology. \nThis year’s event will offer opportunities to reconnect with colleagues\, meet new business partners\, let loose at memorable social events\, and learn from the best and brightest producers\, storytellers and decision makers in the world. For those working in science and factual media—be it television\, digital\, SVOD\, gaming\, theatrical or the next big thing—Congress is the place for you! \nLearn more
URL:https://reelgreen.ca/event/world-congress-of-science-factual-producers-2023/
CATEGORIES:Motion Picture
ATTACH;FMTTYPE=image/jpeg:https://reelgreen.ca/wp-content/uploads/2023/08/354466433_667573128748048_8370401158545664607_n-e1692382175968.jpg
END:VEVENT
BEGIN:VEVENT
DTSTART;TZID=America/Vancouver:20231129T010000
DTEND;TZID=America/Vancouver:20231204T005959
DTSTAMP:20260424T115517
CREATED:20230215T053540Z
LAST-MODIFIED:20230215T053540Z
UID:39817-1701219600-1701651599@reelgreen.ca
SUMMARY:Whistler Film Festival 2023
DESCRIPTION:The Whistler Film Festival was founded in 2001 with the intention to create opportunities for new and original voices to be heard in independent film\, to put Whistler on the map as a cultural destination and to promote British Columbia?s burgeoning film industry. The festival has not changed in terms of its purpose\, but it has grown way beyond ever imagined in terms of its size\, scope and scale. \nLearn more
URL:https://reelgreen.ca/event/whistler-film-festival-2023/
CATEGORIES:Motion Picture
END:VEVENT
END:VCALENDAR