BEGIN:VCALENDAR
VERSION:2.0
PRODID:-//Reel Green™ - ECPv6.15.20//NONSGML v1.0//EN
CALSCALE:GREGORIAN
METHOD:PUBLISH
X-WR-CALNAME:Reel Green™
X-ORIGINAL-URL:https://reelgreen.ca
X-WR-CALDESC:Events for Reel Green™
REFRESH-INTERVAL;VALUE=DURATION:PT1H
X-Robots-Tag:noindex
X-PUBLISHED-TTL:PT1H
BEGIN:VTIMEZONE
TZID:America/Vancouver
BEGIN:DAYLIGHT
TZOFFSETFROM:-0800
TZOFFSETTO:-0700
TZNAME:PDT
DTSTART:20230312T100000
END:DAYLIGHT
BEGIN:STANDARD
TZOFFSETFROM:-0700
TZOFFSETTO:-0800
TZNAME:PST
DTSTART:20231105T090000
END:STANDARD
BEGIN:DAYLIGHT
TZOFFSETFROM:-0800
TZOFFSETTO:-0700
TZNAME:PDT
DTSTART:20240310T100000
END:DAYLIGHT
BEGIN:STANDARD
TZOFFSETFROM:-0700
TZOFFSETTO:-0800
TZNAME:PST
DTSTART:20241103T090000
END:STANDARD
BEGIN:DAYLIGHT
TZOFFSETFROM:-0800
TZOFFSETTO:-0700
TZNAME:PDT
DTSTART:20250309T100000
END:DAYLIGHT
BEGIN:STANDARD
TZOFFSETFROM:-0700
TZOFFSETTO:-0800
TZNAME:PST
DTSTART:20251102T090000
END:STANDARD
END:VTIMEZONE
BEGIN:VEVENT
DTSTART;TZID=America/Vancouver:20240127T010000
DTEND;TZID=America/Vancouver:20240202T005959
DTSTAMP:20260424T072721
CREATED:20240115T175326Z
LAST-MODIFIED:20240115T175326Z
UID:48338-1706317200-1706835599@reelgreen.ca
SUMMARY:2024 MENA 5 Film Festival
DESCRIPTION:The MENA Film Festival in Vancouver showcases the Middle East and North Africa (MENA) community in the local film circuit. The MENA Film Festival focuses specifically on filmmakers and artists who identify with the Canadian-MENA/SWANA community. \nThis festival provides a platform for both local and national talents\, including emerging and established voices\, to showcase their work and contribute to the cultural diversity of Vancouver’s film scene. The goal is to amplify the voices and perspectives of the MENA/SWANA community\, offering a unique cinematic panorama that reflects the rich cultural heritage of the region.
URL:https://reelgreen.ca/event/2024-mena-5-film-festival/
CATEGORIES:Motion Picture
END:VEVENT
BEGIN:VEVENT
DTSTART;TZID=America/Vancouver:20240131T010000
DTEND;TZID=America/Vancouver:20240203T005959
DTSTAMP:20260424T072721
CREATED:20240115T191324Z
LAST-MODIFIED:20240115T191324Z
UID:48357-1706662800-1706921999@reelgreen.ca
SUMMARY:Prime Time 2024
DESCRIPTION:The CMPA’s Prime Time conference is Canada’s pre-eminent meeting place for leaders and trendsetters in media production\, broadcasting\, TV\, feature film and media policy. \nJoin thought-leaders and decision-makers for discussions on big ideas and bold predictions\, and sit down with content-buyers and commissioning executives from across Canada and around the world\, to pitch projects and learn what buyers are looking for today. \nOur Vice-President\, Robert Wong\, and our CEO\, Prem Gill\, will both be speaking on panels at Prime Time. Catch Robert on the Navigating opportunities: A conversation with key national and provincial funders panel and Prem on the Data matters: How to use demographic reporting to increase diversity and inclusion on screen panel.
URL:https://reelgreen.ca/event/prime-time-2024/
CATEGORIES:Motion Picture
END:VEVENT
BEGIN:VEVENT
DTSTART;TZID=America/Vancouver:20240201T010000
DTEND;TZID=America/Vancouver:20240205T005959
DTSTAMP:20260424T072721
CREATED:20240115T180023Z
LAST-MODIFIED:20240115T180023Z
UID:48341-1706749200-1707094799@reelgreen.ca
SUMMARY:2024 Invermere Film Festival
DESCRIPTION:The Invermere Film Festival\, an annual event held every February over four days at the Columbia Valley Centre in Invermere\, BC\, is gearing up for its fifth year in 2024. From February 1-4\, 2024\, the festival promises a captivating experience\, showcasing a diverse selection of films in a picturesque setting. \nAudiences can anticipate another year of cinematic excellence and cultural enrichment as the Invermere Film Festival continues to establish itself as a prominent fixture in the regional arts and entertainment calendar.
URL:https://reelgreen.ca/event/2024-invermere-film-festival/
CATEGORIES:Motion Picture
END:VEVENT
BEGIN:VEVENT
DTSTART;TZID=America/Vancouver:20240202T010000
DTEND;TZID=America/Vancouver:20240212T005959
DTSTAMP:20260424T072721
CREATED:20240115T181648Z
LAST-MODIFIED:20240115T181648Z
UID:48351-1706835600-1707699599@reelgreen.ca
SUMMARY:2024 Victoria Film Festival (VFF)
DESCRIPTION:The Victoria Film Festival (VFF) is gearing up for an epic 30th-anniversary celebration\, extending a warm invitation for all to be part of this milestone event! \nFor three decades\, the VFF has pulsated as the heartbeat of Victoria’s film scene\, infusing the city with reel magic. Beyond being a mere film festival\, it has evolved into a cinematic saga\, showcasing unique experiences such as croquet in a Wax Museum\, animation classes tailored for Indigenous filmmakers\, and a memorable live performance by the legendary David Foster. \nAnd the excitement doesn’t stop there—VFF declares that they are just getting started\, promising even more cinematic wonders and unforgettable moments as they embark on this landmark anniversary celebration.
URL:https://reelgreen.ca/event/2024-victoria-film-festival-vff/
CATEGORIES:Motion Picture
END:VEVENT
BEGIN:VEVENT
DTSTART;TZID=America/Vancouver:20240221T010000
DTEND;TZID=America/Vancouver:20240226T005959
DTSTAMP:20260424T072721
CREATED:20240122T211236Z
LAST-MODIFIED:20240122T211236Z
UID:48501-1708477200-1708909199@reelgreen.ca
SUMMARY:KDocsFF 2024: Journeys in Solidarity
DESCRIPTION:KDocsFF stands at the forefront of documentary activism\, shining a light on untold stories that challenge perceptions and provoke dialogue. The festival serves as a beacon for filmmakers and advocates who aspire to explore and illuminate the truths of their time. \nWith every frame and narrative\, KDocsFF commits to breaking barriers and opening minds. The curated selection of documentaries invites audiences to witness the power of real-world storytelling—a cinematic journey that celebrates the relentless spirit of activism and its capacity to inspire societal transformation.
URL:https://reelgreen.ca/event/kdocsff-2024-journeys-in-solidarity/
CATEGORIES:Motion Picture
END:VEVENT
BEGIN:VEVENT
DTSTART;TZID=America/Vancouver:20240223T010000
DTEND;TZID=America/Vancouver:20240325T005959
DTSTAMP:20260424T072721
CREATED:20240115T185959Z
LAST-MODIFIED:20240115T185959Z
UID:48354-1708650000-1711328399@reelgreen.ca
SUMMARY:2024 Vancouver International Mountain Film Festival (VIMFF)
DESCRIPTION:Embrace the coziness and dive into over 65 inspiring mountain films from around the world with the VIMFF\, set to launch on February 23\, 2024.  Get motivated for your next adventure by enjoying a curated selection of films that celebrate the spirit of adventure in the mountains.
URL:https://reelgreen.ca/event/2024-vancouver-international-mountain-film-festival-vimff/
CATEGORIES:Motion Picture
END:VEVENT
END:VCALENDAR