BEGIN:VCALENDAR
VERSION:2.0
PRODID:-//Reel Green™ - ECPv6.15.20//NONSGML v1.0//EN
CALSCALE:GREGORIAN
METHOD:PUBLISH
X-WR-CALNAME:Reel Green™
X-ORIGINAL-URL:https://reelgreen.ca
X-WR-CALDESC:Events for Reel Green™
REFRESH-INTERVAL;VALUE=DURATION:PT1H
X-Robots-Tag:noindex
X-PUBLISHED-TTL:PT1H
BEGIN:VTIMEZONE
TZID:America/Vancouver
BEGIN:DAYLIGHT
TZOFFSETFROM:-0800
TZOFFSETTO:-0700
TZNAME:PDT
DTSTART:20230312T100000
END:DAYLIGHT
BEGIN:STANDARD
TZOFFSETFROM:-0700
TZOFFSETTO:-0800
TZNAME:PST
DTSTART:20231105T090000
END:STANDARD
BEGIN:DAYLIGHT
TZOFFSETFROM:-0800
TZOFFSETTO:-0700
TZNAME:PDT
DTSTART:20240310T100000
END:DAYLIGHT
BEGIN:STANDARD
TZOFFSETFROM:-0700
TZOFFSETTO:-0800
TZNAME:PST
DTSTART:20241103T090000
END:STANDARD
BEGIN:DAYLIGHT
TZOFFSETFROM:-0800
TZOFFSETTO:-0700
TZNAME:PDT
DTSTART:20250309T100000
END:DAYLIGHT
BEGIN:STANDARD
TZOFFSETFROM:-0700
TZOFFSETTO:-0800
TZNAME:PST
DTSTART:20251102T090000
END:STANDARD
END:VTIMEZONE
BEGIN:VEVENT
DTSTART;TZID=America/Vancouver:20240526T010000
DTEND;TZID=America/Vancouver:20240602T005959
DTSTAMP:20260424T013224
CREATED:20240402T183329Z
LAST-MODIFIED:20240402T183329Z
UID:50833-1716685200-1717289999@reelgreen.ca
SUMMARY:Canadian Screen Week 2024
DESCRIPTION:Canadian Screen Week\, a seven-day stretch honouring the best in homegrown film\, television and digital media that culminates in the Canadian Screen Awards broadcast\, will take place May 26 through June 1.
URL:https://reelgreen.ca/event/canadian-screen-week-2024/
CATEGORIES:Motion Picture
END:VEVENT
BEGIN:VEVENT
DTSTART;TZID=America/Vancouver:20240531T010000
DTEND;TZID=America/Vancouver:20240601T005959
DTSTAMP:20260424T013224
CREATED:20240402T184359Z
LAST-MODIFIED:20240402T184359Z
UID:50843-1717117200-1717203599@reelgreen.ca
SUMMARY:Canadian Screen Awards 2024
DESCRIPTION:The Canadian Screen Awards are awards given for artistic and technical merit in the film industry recognizing excellence in Canadian film\, English-language television\, and digital media productions.
URL:https://reelgreen.ca/event/canadian-screen-awards-2024/
CATEGORIES:Motion Picture
END:VEVENT
BEGIN:VEVENT
DTSTART;TZID=America/Vancouver:20240625T010000
DTEND;TZID=America/Vancouver:20240629T005959
DTSTAMP:20260424T013224
CREATED:20240613T163715Z
LAST-MODIFIED:20240613T163715Z
UID:52830-1719277200-1719622799@reelgreen.ca
SUMMARY:Hollywood Climate Summit 2024
DESCRIPTION:The Hollywood Climate Summit organizes year-round\, high energy convenings and creative labs for multi-sector media professionals to level up their climate knowledge\, spark collaborations\, deepen intersectional values\, showcase innovation\, and lead a cultural movement of sustained impact and climate action.
URL:https://reelgreen.ca/event/hollywood-climate-summit-2024/
CATEGORIES:Motion Picture,Reel Green
END:VEVENT
END:VCALENDAR