BEGIN:VCALENDAR
VERSION:2.0
PRODID:-//Reel Green™ - ECPv6.15.20//NONSGML v1.0//EN
CALSCALE:GREGORIAN
METHOD:PUBLISH
X-ORIGINAL-URL:https://reelgreen.ca
X-WR-CALDESC:Events for Reel Green™
REFRESH-INTERVAL;VALUE=DURATION:PT1H
X-Robots-Tag:noindex
X-PUBLISHED-TTL:PT1H
BEGIN:VTIMEZONE
TZID:America/Vancouver
BEGIN:DAYLIGHT
TZOFFSETFROM:-0800
TZOFFSETTO:-0700
TZNAME:PDT
DTSTART:20230312T100000
END:DAYLIGHT
BEGIN:STANDARD
TZOFFSETFROM:-0700
TZOFFSETTO:-0800
TZNAME:PST
DTSTART:20231105T090000
END:STANDARD
BEGIN:DAYLIGHT
TZOFFSETFROM:-0800
TZOFFSETTO:-0700
TZNAME:PDT
DTSTART:20240310T100000
END:DAYLIGHT
BEGIN:STANDARD
TZOFFSETFROM:-0700
TZOFFSETTO:-0800
TZNAME:PST
DTSTART:20241103T090000
END:STANDARD
BEGIN:DAYLIGHT
TZOFFSETFROM:-0800
TZOFFSETTO:-0700
TZNAME:PDT
DTSTART:20250309T100000
END:DAYLIGHT
BEGIN:STANDARD
TZOFFSETFROM:-0700
TZOFFSETTO:-0800
TZNAME:PST
DTSTART:20251102T090000
END:STANDARD
END:VTIMEZONE
BEGIN:VEVENT
DTSTART;TZID=America/Vancouver:20241031T010000
DTEND;TZID=America/Vancouver:20241104T005959
DTSTAMP:20260421T201647
CREATED:20241011T210005Z
LAST-MODIFIED:20241011T210005Z
UID:55998-1730336400-1730681999@reelgreen.ca
SUMMARY:SPARK ANIMATION 2024
DESCRIPTION:SPARK ANIMATION 2024 is Western Canada’s premiere animation festival and the largest presentation and gathering of animation in British Columbia. \nIt presents a wide range of programming for all ages including family-friendly screenings\, late-night presentations for more mature audiences\, as well as talks and opportunities for attendees to meet\, interact and learn from creators. \nLearn more about the program rundown on the official website. \n 
URL:https://reelgreen.ca/event/spark-animation-2024/
CATEGORIES:Motion Picture
END:VEVENT
BEGIN:VEVENT
DTSTART;TZID=America/Vancouver:20241101T010000
DTEND;TZID=America/Vancouver:20241103T005959
DTSTAMP:20260421T201647
CREATED:20240923T170051Z
LAST-MODIFIED:20240923T170051Z
UID:55468-1730422800-1730595599@reelgreen.ca
SUMMARY:2024 FactualWEST Conference
DESCRIPTION:Every November since 2016\, the Canadian factual\, lifestyle and documentary television community has been coming together in Vancouver for the FactualWEST Conference. \nThis annual two-day conference provides professional and project development opportunity for creators\, producers and crew\, and brings together hundreds of people to celebrate the industry. \nStay tuned for details on the 2024 FactualWEST Conference.
URL:https://reelgreen.ca/event/2024-factualwest-conference/
CATEGORIES:Motion Picture
ATTACH;FMTTYPE=image/jpeg:https://reelgreen.ca/wp-content/uploads/2024/09/factualwest_WEB.jpeg
END:VEVENT
BEGIN:VEVENT
DTSTART;TZID=America/Vancouver:20241107T010000
DTEND;TZID=America/Vancouver:20241118T005959
DTSTAMP:20260421T201647
CREATED:20240923T170049Z
LAST-MODIFIED:20240923T170049Z
UID:55460-1730941200-1731891599@reelgreen.ca
SUMMARY:Vancouver Asian Film Festival 2024
DESCRIPTION:The Vancouver Asian Film Festival (VAFF) highlights an array of unique and outstanding talent\, with both emerging and established Asian Canadian and Asian American writers\, producers\, and directors showcasing their latest work. \nThis year’s theme is Future Voices – Shaping the Next Generation of Diversity in Film and TV\, marking the 28th year of commitment to proactive diversity and inclusion. Stay tuned for more details.
URL:https://reelgreen.ca/event/vancouver-asian-film-festival-2024/
CATEGORIES:Motion Picture
ATTACH;FMTTYPE=image/jpeg:https://reelgreen.ca/wp-content/uploads/2024/09/DSC_8358-e1542583666662-1024x508-1.jpg
END:VEVENT
BEGIN:VEVENT
DTSTART;TZID=America/Vancouver:20241109T010000
DTEND;TZID=America/Vancouver:20241118T005959
DTSTAMP:20260421T201647
CREATED:20240923T170041Z
LAST-MODIFIED:20240923T170041Z
UID:55465-1731114000-1731891599@reelgreen.ca
SUMMARY:Vancouver Asian Film Festival: Industry Insight Series 2024
DESCRIPTION:The Vancouver Asian Film Festival’s Industry Insight Series and Filmmaker Talks Series provide valuable perspectives for aspiring and seasoned filmmakers\, creators of diverse backgrounds\, and industry professionals who aim to promote diverse representation both in front of and behind the camera. \nThis event offers participants the opportunity to connect and strengthen the film community for the next generation of storytellers. \nStay tuned for details.
URL:https://reelgreen.ca/event/vancouver-asian-film-festival-industry-insight-series-2024/
CATEGORIES:Motion Picture
ATTACH;FMTTYPE=image/jpeg:https://reelgreen.ca/wp-content/uploads/2024/09/DSC_8358-e1542583666662-1024x508-1.jpg
END:VEVENT
BEGIN:VEVENT
DTSTART;TZID=America/Vancouver:20241120T120000
DTEND;TZID=America/Vancouver:20241120T140000
DTSTAMP:20260421T201647
CREATED:20241030T180805Z
LAST-MODIFIED:20241030T180805Z
UID:56429-1732104000-1732111200@reelgreen.ca
SUMMARY:Reel Green™ Sustainable Production Training | November 20\, 2024
DESCRIPTION:Reel Green™’s Sustainable Production Training offers free online training for the motion picture industry. Learn how motion picture production contributes to climate change and how to adopt best practices to reduce the environmental impact of production. This course offers a unique\, engaging and solutions-based training session offering attendees the information and inspiration to live and work in a more sustainable way. \nUpon successful completion of the course\, attendees will:\n– understand how to act to reduce their impact within the three stages of production\n– recognize the impact that production has on the environment\n– have knowledge of the tools and techniques to lessen this impact and how to collect and report data\n– receive the completion credit and ActSafe Certificate (for B.C. Residents only) \nTaking the Sustainable Production Training course is free and recommended to everyone in the motion picture industry. In this 2-hour training\, crew will learn how to adopt and implement more environmentally sustainable practices in the three stages of production.
URL:https://reelgreen.ca/event/reel-green-sustainable-production-training-november-20-2024/
CATEGORIES:Motion Picture,Reel Green
ATTACH;FMTTYPE=image/jpeg:https://reelgreen.ca/wp-content/uploads/2023/09/ReelGreen_SustainableProdTraining1.jpg
END:VEVENT
BEGIN:VEVENT
DTSTART;TZID=America/Vancouver:20241122T010000
DTEND;TZID=America/Vancouver:20241125T005959
DTSTAMP:20260421T201647
CREATED:20240923T204720Z
LAST-MODIFIED:20240923T204720Z
UID:55636-1732237200-1732496399@reelgreen.ca
SUMMARY:Chilliwack Independent Film Festival 2024
DESCRIPTION:The 8th edition of the Chilliwack Independent Film Festival returns November 20 to 22 this year with screenings of films from across the world. With screenings of features\, short films\, documentaries\, workshops\, and talks\, there’s something for everyone this fall. \nThe Chilliwack Independent Film Festival runs every year in November at the Cottonwood Cinema located in Fraser Valley. \n\n\n\n\n\n\n\n\n\n\n 
URL:https://reelgreen.ca/event/chilliwack-independent-film-festival-2024/
CATEGORIES:Motion Picture
END:VEVENT
END:VCALENDAR