BEGIN:VCALENDAR
VERSION:2.0
PRODID:-//Reel Green™ - ECPv6.15.20//NONSGML v1.0//EN
CALSCALE:GREGORIAN
METHOD:PUBLISH
X-ORIGINAL-URL:https://reelgreen.ca
X-WR-CALDESC:Events for Reel Green™
REFRESH-INTERVAL;VALUE=DURATION:PT1H
X-Robots-Tag:noindex
X-PUBLISHED-TTL:PT1H
BEGIN:VTIMEZONE
TZID:America/Vancouver
BEGIN:DAYLIGHT
TZOFFSETFROM:-0800
TZOFFSETTO:-0700
TZNAME:PDT
DTSTART:20210314T100000
END:DAYLIGHT
BEGIN:STANDARD
TZOFFSETFROM:-0700
TZOFFSETTO:-0800
TZNAME:PST
DTSTART:20211107T090000
END:STANDARD
BEGIN:DAYLIGHT
TZOFFSETFROM:-0800
TZOFFSETTO:-0700
TZNAME:PDT
DTSTART:20220313T100000
END:DAYLIGHT
BEGIN:STANDARD
TZOFFSETFROM:-0700
TZOFFSETTO:-0800
TZNAME:PST
DTSTART:20221106T090000
END:STANDARD
BEGIN:DAYLIGHT
TZOFFSETFROM:-0800
TZOFFSETTO:-0700
TZNAME:PDT
DTSTART:20230312T100000
END:DAYLIGHT
BEGIN:STANDARD
TZOFFSETFROM:-0700
TZOFFSETTO:-0800
TZNAME:PST
DTSTART:20231105T090000
END:STANDARD
END:VTIMEZONE
BEGIN:VEVENT
DTSTART;TZID=America/Vancouver:20220706T093000
DTEND;TZID=America/Vancouver:20220706T123000
DTSTAMP:20260425T125154
CREATED:20220512T001859Z
LAST-MODIFIED:20220512T001859Z
UID:31906-1657099800-1657110600@reelgreen.ca
SUMMARY:Reel Green™ Climate and Sustainable Production Training - July 2022
DESCRIPTION:[et_pb_section admin_label=”section”]\n			[et_pb_row admin_label=”row”]\n				[et_pb_column type=”4_4″][et_pb_text admin_label=”Text”]Learn how film/TV production contributes climate change and how to adopt best practices to reduce the environmental impact of production. \nReel Green is going digital! During this at-home time\, we’re offering online Reel Green’s Climate and Sustainable Production courses (formerly called Carbon Literacy). And the course remains free for anyone involved in film\, television and commercial production! \nThe Climate and Sustainable Production training course is a unique\, engaging and solutions-based training session offering attendees the information and inspiration to live and work in a more sustainable way. Upon successful completion of the day\, attendees will: \n\nhave a sound understanding of the science of climate change\nunderstand how to act to reduce their impact\nrecognize the impact that production has on the environment\nhave knowledge of the tools and techniques to lessen this impact\nTaking the Climate and Sustainable Production training course is free and recommended to everyone in the motion picture industry.\n\nWe’ve adapted the curriculum to accommodate a 3-hour training comprising climate science\, what it means for production\, and how to adopt more environmentally sustainable practices on-set. Now is the time to get trained so you can apply your knowledge when production starts up. \nRegister for the July training here.[/et_pb_text][/et_pb_column]\n			[/et_pb_row]\n		[/et_pb_section]
URL:https://reelgreen.ca/event/reel-green-climate-and-sustainable-production-training-july-2022/
CATEGORIES:Reel Green
END:VEVENT
BEGIN:VEVENT
DTSTART;TZID=America/Vancouver:20220727T093000
DTEND;TZID=America/Vancouver:20220727T103000
DTSTAMP:20260425T125154
CREATED:20220516T222856Z
LAST-MODIFIED:20220516T222856Z
UID:32020-1658914200-1658917800@reelgreen.ca
SUMMARY:Reel Green™ Carbon Calculator Training - July 2022
DESCRIPTION:Reel Green™ offers free Carbon Calculator training for all film industry professionals in British Columbia and Canada.\n\n\n\n\n\nAbout this event\n\n\nDerived from one of the motion picture industry’s leading carbon calculators\, albert\, Reel Green™ has adapted a carbon calculator for British Columbia\, for free\, for productions in B.C. to use. \nCalculating the carbon footprint of your production is an important step in understanding the impact of film production. Having consistent data and metrics from the industry can help organizations like Reel Green understand priority areas for sustainable practices as well as help productions understand and measure their carbon impact. \nAdditionally\, with more available data points we can also derive economic benefits of going green on production! \nThe albert carbon calculator tool is available free for all productions to use. It has helps streamline the process of inputting and collecting data needed to calculate carbon impact. Multiple productions can be tracked on this tool\, and having a single data hub helps to develop benchmarks for productions to work from and improve upon. \nWe can also offer consultative support though Reel Green™. For more information on carbon calculation please contact reelgreen@creativebc.com \n\nRegister for the July training here
URL:https://reelgreen.ca/event/reel-green-carbon-calculator-training-july-2022/
CATEGORIES:Reel Green
END:VEVENT
END:VCALENDAR