BEGIN:VCALENDAR
VERSION:2.0
PRODID:-//Reel Green™ - ECPv6.15.20//NONSGML v1.0//EN
CALSCALE:GREGORIAN
METHOD:PUBLISH
X-ORIGINAL-URL:https://reelgreen.ca
X-WR-CALDESC:Events for Reel Green™
REFRESH-INTERVAL;VALUE=DURATION:PT1H
X-Robots-Tag:noindex
X-PUBLISHED-TTL:PT1H
BEGIN:VTIMEZONE
TZID:America/Vancouver
BEGIN:DAYLIGHT
TZOFFSETFROM:-0800
TZOFFSETTO:-0700
TZNAME:PDT
DTSTART:20210314T100000
END:DAYLIGHT
BEGIN:STANDARD
TZOFFSETFROM:-0700
TZOFFSETTO:-0800
TZNAME:PST
DTSTART:20211107T090000
END:STANDARD
BEGIN:DAYLIGHT
TZOFFSETFROM:-0800
TZOFFSETTO:-0700
TZNAME:PDT
DTSTART:20220313T100000
END:DAYLIGHT
BEGIN:STANDARD
TZOFFSETFROM:-0700
TZOFFSETTO:-0800
TZNAME:PST
DTSTART:20221106T090000
END:STANDARD
BEGIN:DAYLIGHT
TZOFFSETFROM:-0800
TZOFFSETTO:-0700
TZNAME:PDT
DTSTART:20230312T100000
END:DAYLIGHT
BEGIN:STANDARD
TZOFFSETFROM:-0700
TZOFFSETTO:-0800
TZNAME:PST
DTSTART:20231105T090000
END:STANDARD
END:VTIMEZONE
BEGIN:VEVENT
DTSTART;TZID=America/Vancouver:20220809T010000
DTEND;TZID=America/Vancouver:20220815T005959
DTSTAMP:20260425T112744
CREATED:20220809T181016Z
LAST-MODIFIED:20220809T181016Z
UID:34643-1660006800-1660525199@reelgreen.ca
SUMMARY:Small File Media Festival 2022
DESCRIPTION:The Small File Media Festival is back with their crazy third iteration\, this year both online and in person! \nThe festival is happening from August 9-14\, 2022\, at the SFU School for the Contemporary Arts in Vancouver\, BC\, on the unceded\ntraditional territories of the Musqueam\, Squamish\, and Tsleil-Watuth nations. \nThere are six days of screenings\, workshops and musical performances celebrating earth-cooling\, PUNK/CHIC small-file eco media. Time to  immerse in tiny movies on the huge screen! \nWhy small files? Because streaming media is overheating the planet. Networks\, data centers\, and devices contribute a whopping 4% of greenhouse gas emissions. About a third of that is the infrastructural share that supports streaming media. The whole category is busting out of control as people worldwide\, intoxicated by corporate media’s siren songs\, stream all kinds of media in high definition\, video chat\, video conference\, and play high-resolution online games\, not to mention invest in crypto and get hooked on artificial intelligence apps. \nFor more information\, visit the Small File Media Festival website here. 
URL:https://reelgreen.ca/event/small-file-media-festival-2022/
CATEGORIES:Reel Green
END:VEVENT
BEGIN:VEVENT
DTSTART;TZID=America/Vancouver:20220810T093000
DTEND;TZID=America/Vancouver:20220810T123000
DTSTAMP:20260425T112744
CREATED:20220512T002115Z
LAST-MODIFIED:20220512T002115Z
UID:31916-1660123800-1660134600@reelgreen.ca
SUMMARY:Reel Green™ Climate and Sustainable Production Training - August 2022
DESCRIPTION:Learn how film/TV production contributes climate change and how to adopt best practices to reduce the environmental impact of production. \nReel Green is going digital! During this at-home time\, we’re offering online Reel Green’s Climate and Sustainable Production courses (formerly called Carbon Literacy). And the course remains free for anyone involved in film\, television and commercial production! \nThe Climate and Sustainable Production training course is a unique\, engaging and solutions-based training session offering attendees the information and inspiration to live and work in a more sustainable way. Upon successful completion of the day\, attendees will: \n\nhave a sound understanding of the science of climate change\nunderstand how to act to reduce their impact\nrecognize the impact that production has on the environment\nhave knowledge of the tools and techniques to lessen this impact\nTaking the Climate and Sustainable Production training course is free and recommended to everyone in the motion picture industry.\n\nWe’ve adapted the curriculum to accommodate a 3-hour training comprising climate science\, what it means for production\, and how to adopt more environmentally sustainable practices on-set. Now is the time to get trained so you can apply your knowledge when production starts up. \nTo register for the August training\, click here.
URL:https://reelgreen.ca/event/reel-green-climate-and-sustainable-production-training-august-2022/
CATEGORIES:Reel Green
END:VEVENT
BEGIN:VEVENT
DTSTART;TZID=America/Vancouver:20220814T090000
DTEND;TZID=America/Vancouver:20220814T130000
DTSTAMP:20260425T112744
CREATED:20220726T191916Z
LAST-MODIFIED:20220726T191916Z
UID:34288-1660467600-1660482000@reelgreen.ca
SUMMARY:Clean Energy Battery Workshop
DESCRIPTION:Can batteries really replace diesel on set? How do I know what batteries I need for a shoot? What do I do when a battery is running low? \nGet all your answers to all your clean energy questions at the Clean Energy Battery Workshop\, and be among the first to try new clean energy gear including VBS Battery Packs and Urban Power Source (UPS) Unit. \nThis workshop takes place on Sunday August 14\, from 9am till 1pm\, at the IATSE 891 Member Centre: 1622 Boundary Road Burnaby\, BC. \n  \nRegistration is free\, lunch will be provided\, and there are door prizes including an iPad! \nTo register for the workshop\, click here. \n  \n\n\nFor more information\, call 604.862.5973 or email hillaryb@iatse.com
URL:https://reelgreen.ca/event/clean-energy-battery-workshop/
CATEGORIES:Reel Green
END:VEVENT
BEGIN:VEVENT
DTSTART;TZID=America/Vancouver:20220825T093000
DTEND;TZID=America/Vancouver:20220825T103000
DTSTAMP:20260425T112744
CREATED:20220516T223113Z
LAST-MODIFIED:20220516T223113Z
UID:32033-1661419800-1661423400@reelgreen.ca
SUMMARY:Reel Green™ Carbon Calculator Training - August 2022
DESCRIPTION:[et_pb_section fb_built=”1″ admin_label=”section” _builder_version=”3.22″ global_colors_info=”{}”][et_pb_row admin_label=”row” _builder_version=”3.25″ background_size=”initial” background_position=”top_left” background_repeat=”repeat” global_colors_info=”{}”][et_pb_column type=”4_4″ _builder_version=”3.25″ custom_padding=”|||” global_colors_info=”{}” custom_padding__hover=”|||”][et_pb_text admin_label=”Text” _builder_version=”3.27.4″ background_size=”initial” background_position=”top_left” background_repeat=”repeat” global_colors_info=”{}”] \n\n\n\nReel Green™ offers free Carbon Calculator training for all film industry professionals in British Columbia and Canada.\n\n\n\n\n\nAbout this event\n\n\nDerived from one of the motion picture industry’s leading carbon calculators\, albert\, Reel Green™ has adapted a carbon calculator for British Columbia\, for free\, for productions in B.C. to use. \nCalculating the carbon footprint of your production is an important step in understanding the impact of film production. Having consistent data and metrics from the industry can help organizations like Reel Green understand priority areas for sustainable practices as well as help productions understand and measure their carbon impact. \nAdditionally\, with more available data points we can also derive economic benefits of going green on production! \nThe albert carbon calculator tool is available free for all productions to use. It has helps streamline the process of inputting and collecting data needed to calculate carbon impact. Multiple productions can be tracked on this tool\, and having a single data hub helps to develop benchmarks for productions to work from and improve upon. \nWe can also offer consultative support though Reel Green™. For more information on carbon calculation please contact reelgreen@creativebc.com \n\nRegister for the August training here \n\n\n\n[/et_pb_text][/et_pb_column][/et_pb_row][/et_pb_section]
URL:https://reelgreen.ca/event/reel-green-carbon-calculator-training-august-2022/
CATEGORIES:Reel Green
END:VEVENT
END:VCALENDAR