BEGIN:VCALENDAR
VERSION:2.0
PRODID:-//Reel Green™ - ECPv6.15.20//NONSGML v1.0//EN
CALSCALE:GREGORIAN
METHOD:PUBLISH
X-WR-CALNAME:Reel Green™
X-ORIGINAL-URL:https://reelgreen.ca
X-WR-CALDESC:Events for Reel Green™
REFRESH-INTERVAL;VALUE=DURATION:PT1H
X-Robots-Tag:noindex
X-PUBLISHED-TTL:PT1H
BEGIN:VTIMEZONE
TZID:America/Vancouver
BEGIN:DAYLIGHT
TZOFFSETFROM:-0800
TZOFFSETTO:-0700
TZNAME:PDT
DTSTART:20210314T100000
END:DAYLIGHT
BEGIN:STANDARD
TZOFFSETFROM:-0700
TZOFFSETTO:-0800
TZNAME:PST
DTSTART:20211107T090000
END:STANDARD
BEGIN:DAYLIGHT
TZOFFSETFROM:-0800
TZOFFSETTO:-0700
TZNAME:PDT
DTSTART:20220313T100000
END:DAYLIGHT
BEGIN:STANDARD
TZOFFSETFROM:-0700
TZOFFSETTO:-0800
TZNAME:PST
DTSTART:20221106T090000
END:STANDARD
BEGIN:DAYLIGHT
TZOFFSETFROM:-0800
TZOFFSETTO:-0700
TZNAME:PDT
DTSTART:20230312T100000
END:DAYLIGHT
BEGIN:STANDARD
TZOFFSETFROM:-0700
TZOFFSETTO:-0800
TZNAME:PST
DTSTART:20231105T090000
END:STANDARD
END:VTIMEZONE
BEGIN:VEVENT
DTSTART;TZID=America/Vancouver:20220914T093000
DTEND;TZID=America/Vancouver:20220914T123000
DTSTAMP:20260425T095635
CREATED:20220512T002228Z
LAST-MODIFIED:20220512T002228Z
UID:31919-1663147800-1663158600@reelgreen.ca
SUMMARY:Reel Green™ Climate and Sustainable Production Training - September 2022
DESCRIPTION:Learn how film/TV production contributes climate change and how to adopt best practices to reduce the environmental impact of production. \nReel Green is going digital! During this at-home time\, we’re offering online Reel Green’s Climate and Sustainable Production courses (formerly called Carbon Literacy). And the course remains free for anyone involved in film\, television and commercial production! \nThe Climate and Sustainable Production training course is a unique\, engaging and solutions-based training session offering attendees the information and inspiration to live and work in a more sustainable way. Upon successful completion of the day\, attendees will: \n\nhave a sound understanding of the science of climate change\nunderstand how to act to reduce their impact\nrecognize the impact that production has on the environment\nhave knowledge of the tools and techniques to lessen this impact\nTaking the Climate and Sustainable Production training course is free and recommended to everyone in the motion picture industry.\n\nWe’ve adapted the curriculum to accommodate a 3-hour training comprising climate science\, what it means for production\, and how to adopt more environmentally sustainable practices on-set. Now is the time to get trained so you can apply your knowledge when production starts up. \nREGISTER HERE
URL:https://reelgreen.ca/event/reel-green-climate-and-sustainable-production-training-september-2022/
CATEGORIES:Reel Green
END:VEVENT
BEGIN:VEVENT
DTSTART;TZID=America/Vancouver:20220916T010000
DTEND;TZID=America/Vancouver:20220918T005959
DTSTAMP:20260425T095635
CREATED:20220916T211308Z
LAST-MODIFIED:20220916T211308Z
UID:35699-1663290000-1663462799@reelgreen.ca
SUMMARY:Leaders on Location Forum for Sustainability
DESCRIPTION:Presented by DGC BC\, LMGI\, MPCI and Reel Green™ \nBC’s production industry has a long history of seeking and curating best practices to lead the way forward with consultation\, collaboration and innovation as the guiding forces. This year\, our Leadership Forum broadly tackles topics related to the industry’s long-term sustainability from the perspective of our industry and some of its key partners. \nJoin us for a series of panels and PechaKutchas on topics such as: First Nations Partners in Production\, Clean Energy\, and Virtual Sanity. \nLeadership on Location is foremost about mindful engagement with host communities. In Canada\, our First Nations partners – as the original stewards of the land – are the ultimate guides to these symbiotic working relationships. What can we learn from our peers and partners about respectful and culturally sensitive practices when it comes to all aspects of our environmental\, social and economic sustainability in location production? \n  \nVancity Theater Forum\nPanel 1: Engaging with our First Nations Partners \nModerator: Mike Fantasia (Top Gun\, Maverick\, Killers of the Flower Moon). \nPanelists: Alison Taylor\, Jason Nolan\, Johanna Sparrow-Crawford\, Joanelle Romero. \nPanel 2: De-carbonizing the Set \nModerator: Geoff Teoli (Vancouver Film Commissioner). \nPanelists: Ryan Schaetzel\, Gemma Martini\, Lisa Scope\, Colin McDougal\, Mary Jo Beirnes\, Eric Cerretani. \nPanel 3: Virtual-Production and Locations \nModerator: Zach Lipovsky (Director: Freaks\, Kimpossible) \nPanelists: John Rakich\, Matt Middleton\, Gladys Tong. \n  \nGreen Vendor Showcase\, presented by Reel Green™\nEnvironmental sustainability in production depends on a robust community of vendors who provide cost effective green alternatives for commonly used industry materials and services. The Green Vendor fair will feature local businesses to showcase their eco services and products\, all while sharing opportunities for collaboration towards a collective goal: sustainability. A few Green Vendors in attendance include: On Stage Cleaning\, The Earth Group\, Hertz\, Driving Force\, Keep it Green Recycling\, and The Reusables. \n  \nVancouver Art Gallery Award Reception\nOn the evening of September 17th\, Forum participants\, panelists and special guests will be welcomed to a celebratory networking reception at the Vancouver Art Gallery in the spirit of Leadership on Location. Together\, leadership peers and partners will have to opportunity to process the content of the day\, and celebrate the achievements of those leading the way for sustainability and stewardship in location production. \nRecognition: Following a tradition of Peer + Partner recognition\, the Motion Picture Community Initiative (MPCI) Awards are formally established this year to honour excellence in Leadership on Location. Peers + Partners alike\, these awards will pay tribute to those making a difference in BC communities as they carry out\, or contribute to\, the complex business of location production.
URL:https://reelgreen.ca/event/leaders-on-location-forum-for-sustainability/
CATEGORIES:Reel Green
END:VEVENT
BEGIN:VEVENT
DTSTART;TZID=America/Vancouver:20220921T133000
DTEND;TZID=America/Vancouver:20220921T150000
DTSTAMP:20260425T095635
CREATED:20220601T231621Z
LAST-MODIFIED:20220601T231621Z
UID:32561-1663767000-1663772400@reelgreen.ca
SUMMARY:Reel Green™ General Meeting | September 2022
DESCRIPTION:Join us on September 21\, 2022 at 1:30pm PST to discuss Reel Green initiatives\, projects and sustainable production highlights in Canada\, with the Reel Green™ Sustainability Lead. \nWe’ll be covering updates from Reel Green™ partners\, the Clean Energy Committee\, Green Vendors\, production highlights\, and more. \nFeatured speakers: TBA \nFor any inquiries or requests to speak\, present or share ideas at the General Meeting\, please email skhurana@creativebc.com. \nEveryone is welcome to attend and contribute. \nTo register for the meeting\, click here.
URL:https://reelgreen.ca/event/reel-green-general-meeting-september-2022-2/
CATEGORIES:Reel Green
END:VEVENT
BEGIN:VEVENT
DTSTART;TZID=America/Vancouver:20220922T093000
DTEND;TZID=America/Vancouver:20220922T103000
DTSTAMP:20260425T095635
CREATED:20220516T223852Z
LAST-MODIFIED:20220516T223852Z
UID:32036-1663839000-1663842600@reelgreen.ca
SUMMARY:Reel Green™ Carbon Calculator Training - September 2022
DESCRIPTION:Reel Green™ offers free Carbon Calculator training for all film industry professionals in British Columbia and Canada.\n\n\n\n\n\nAbout this event\n\n\nDerived from one of the motion picture industry’s leading carbon calculators\, albert\, Reel Green™ has adapted a carbon calculator for British Columbia\, for free\, for productions in B.C. to use. \nCalculating the carbon footprint of your production is an important step in understanding the impact of film production. Having consistent data and metrics from the industry can help organizations like Reel Green understand priority areas for sustainable practices as well as help productions understand and measure their carbon impact. \nAdditionally\, with more available data points we can also derive economic benefits of going green on production! \nThe albert carbon calculator tool is available free for all productions to use. It has helps streamline the process of inputting and collecting data needed to calculate carbon impact. Multiple productions can be tracked on this tool\, and having a single data hub helps to develop benchmarks for productions to work from and improve upon. \nWe can also offer consultative support though Reel Green™. For more information on carbon calculation please contact reelgreen@creativebc.com \n\nRegister for the September training here
URL:https://reelgreen.ca/event/reel-green-carbon-calculator-training-september-2022/
CATEGORIES:Reel Green
END:VEVENT
END:VCALENDAR