BEGIN:VCALENDAR
VERSION:2.0
PRODID:-//Reel Green™ - ECPv6.15.20//NONSGML v1.0//EN
CALSCALE:GREGORIAN
METHOD:PUBLISH
X-ORIGINAL-URL:https://reelgreen.ca
X-WR-CALDESC:Events for Reel Green™
REFRESH-INTERVAL;VALUE=DURATION:PT1H
X-Robots-Tag:noindex
X-PUBLISHED-TTL:PT1H
BEGIN:VTIMEZONE
TZID:America/Vancouver
BEGIN:DAYLIGHT
TZOFFSETFROM:-0800
TZOFFSETTO:-0700
TZNAME:PDT
DTSTART:20210314T100000
END:DAYLIGHT
BEGIN:STANDARD
TZOFFSETFROM:-0700
TZOFFSETTO:-0800
TZNAME:PST
DTSTART:20211107T090000
END:STANDARD
BEGIN:DAYLIGHT
TZOFFSETFROM:-0800
TZOFFSETTO:-0700
TZNAME:PDT
DTSTART:20220313T100000
END:DAYLIGHT
BEGIN:STANDARD
TZOFFSETFROM:-0700
TZOFFSETTO:-0800
TZNAME:PST
DTSTART:20221106T090000
END:STANDARD
BEGIN:DAYLIGHT
TZOFFSETFROM:-0800
TZOFFSETTO:-0700
TZNAME:PDT
DTSTART:20230312T100000
END:DAYLIGHT
BEGIN:STANDARD
TZOFFSETFROM:-0700
TZOFFSETTO:-0800
TZNAME:PST
DTSTART:20231105T090000
END:STANDARD
END:VTIMEZONE
BEGIN:VEVENT
DTSTART;TZID=America/Vancouver:20221001T113000
DTEND;TZID=America/Vancouver:20221001T133000
DTSTAMP:20260425T083722
CREATED:20220926T163444Z
LAST-MODIFIED:20220926T163444Z
UID:35852-1664623800-1664631000@reelgreen.ca
SUMMARY:The Filmmaker's Influence in the Time of Climate Change - VIFF Talk
DESCRIPTION:Presented by Reel Green™ at Creative BC \nCanada’s motion picture industry is taking the lead on green initiatives through production practices and reducing carbon emissions. Meet filmmakers who are using their roles to cultivate and tell stories on screen with underlying themes of environmental sustainability. This panel takes you through implementing intersectional climate themes from the early stages of development and the influence subject matter has over audiences. \nJoin Reel Green™ at the 41st Vancouver International Film Festival in this Industry Talk. \n  \nGuests:\n\n\n\nAm Johal \n\n\nSmiely Khurana\n\n\nLiz Marshall\n\n\n\n\n\n\n\n\n-> Learn more here\n\n\n\nDate: Oct 1\, 2022\n\nTime: 11:30 am – 1:30 pm\n\nVenue: VIFF Centre – Vancity Theatre\n\n\n\n\n\n-> RSVP for Free Here
URL:https://reelgreen.ca/event/the-filmmakers-influence-in-the-time-of-climate-change/
CATEGORIES:Reel Green
ATTACH;FMTTYPE=image/jpeg:https://reelgreen.ca/wp-content/uploads/2022/09/graphic.jpg
END:VEVENT
BEGIN:VEVENT
DTSTART;TZID=America/Vancouver:20221003T010000
DTEND;TZID=America/Vancouver:20221023T005959
DTSTAMP:20260425T083722
CREATED:20220907T173510Z
LAST-MODIFIED:20220907T173510Z
UID:35349-1664758800-1666486799@reelgreen.ca
SUMMARY:Sustainable Production Forum 2022
DESCRIPTION:Join us for the 7th annual Sustainable Production Forum (SPF22)\, a global hybrid conference focused on accelerating sustainability in the motion picture industry. By gathering changemakers\, we aim to create tangible results in the decarbonization of content creation. Worldwide knowledge sharing and mutual support is key to our success. \nWho is SPF for?  It’s for funders\, policy makers\, crew\, producers\, stakeholders\, vendors\, civil servants\, filmmakers\, actors\, sustainability champions\, advocates\, and planet ambassadors. \nSPF22 will feature a wide-range of premium virtual programming; high profile keynotes\, fireside chats\, moderated panels\, skill building\, and SPF Vendor Chats! \nView the programming and register here \n 
URL:https://reelgreen.ca/event/sustainable-production-forum-2022/
CATEGORIES:Motion Picture,Reel Green
ATTACH;FMTTYPE=image/png:https://reelgreen.ca/wp-content/uploads/2022/09/SPF22_leadimage_long_withtext-85.png
END:VEVENT
BEGIN:VEVENT
DTSTART;TZID=America/Vancouver:20221003T120000
DTEND;TZID=America/Vancouver:20221003T130000
DTSTAMP:20260425T083722
CREATED:20220927T174042Z
LAST-MODIFIED:20220927T174042Z
UID:35894-1664798400-1664802000@reelgreen.ca
SUMMARY:LASTING IMPACT | How Climate Storytelling is Transforming our Industry - SPF22
DESCRIPTION:Learn from some changemakers who are using their platform for good. We’ll bust some myths about the next generation of filmmakers being the ones who hold the key to our evolution. These storytellers are working at the intersection of social change and transformation\, diving into climate stories\, social sustainability\, and local audiences. Join us for an intergenerational approach into the 5 W’s of climate storytelling and how it is a tool for social change. \n\n  \nSponsored By: Reel Green™ at Creative BC\, MPPIA\, and Creative BC \n  \nSpeakers:  \n\nChristopher Jenkins (Speaker) Nerv Productions\, Filmmaker\nJamila Pomeroy (Speaker) RUCKUS Machine Pictures\, Writer\, Filmmaker\, & Creative Entrepreneur\nAli Weinstein (Speaker) Hollywood Climate Summit\, TV Writer\, Producer + Co-Founder of Hollywood Climate Summit\nCharles Wilkinson (Speaker) Shore Films Inc\, Filmmaker\nSmiely Khurana (Moderator) Creative BC\, Reel Green Sustainability Lead\n\n  \nDate: Monday\, October 3\, 2022 \nTime: 12:00pm – 1:00pm \nLocation: Virtual \n  \nGet your tickets for the event here! \n 
URL:https://reelgreen.ca/event/lasting-impact-how-climate-storytelling-is-transforming-our-industry-spf22/
CATEGORIES:Reel Green
ATTACH;FMTTYPE=image/png:https://reelgreen.ca/wp-content/uploads/2022/09/Media-Kit-SPF-Banner-4.png
END:VEVENT
BEGIN:VEVENT
DTSTART;TZID=America/Vancouver:20221019T183000
DTEND;TZID=America/Vancouver:20221019T213000
DTSTAMP:20260425T083722
CREATED:20220928T213209Z
LAST-MODIFIED:20220928T213209Z
UID:35959-1666204200-1666215000@reelgreen.ca
SUMMARY:Reel Green™ Presents: Soul Of The Fraser – Screening and Q&A
DESCRIPTION:The Fraser River forms the largest estuary along the Pacific Coast of North America\, is home to over 400 species of vertebrates\, thousands of plants and a myriad of small invertebrates. \nIn this documentary screening\, follow an ensemble cast ranging from a former government fisheries biologist turned activist to a boat captain with an Indigenous family history long forgotten\, as they search for a way to save what’s left of the Fraser Estuary. \nFollowing the screening\, we will have a special Q&A with river restoration expert Professor Ken Ashley\, the cast\, and the filmmakers. Step out of the bustle of Vancouver and reconnect with what’s left of the mysterious Fraser Estuary! \n\n\nDate: Wednesday\, October 19th\, 2022\nTime: Doors open at 6:30pm\, screening starts at 7:00pm\nLocation: Science World – OMNIMAX Theatre | 1455 Quebec St\, Vancouver\, BC V6A 3Z7\nPresented in partnership with: Reel Green™\, Birds Canada\, Science World\, BCIT – Rivers Institute\, NERV Productions\, and Willow Grove. \n\n\nFeaturing a Special Q&A with:\nBrendan Chu – Nerv Productions\nMisty MacDuffee – Raincoast Conservation Foundation \nModerated by:\nProfessor Ken Ashley – BCIT \nMore Speakers to be confirmed soon. \nFor more information and to get your tickets\, click here.
URL:https://reelgreen.ca/event/reel-green-presents-soul-of-the-fraser-screening-and-qa/
CATEGORIES:Reel Green
ATTACH;FMTTYPE=image/png:https://reelgreen.ca/wp-content/uploads/2022/09/MicrosoftTeams-image.png
END:VEVENT
BEGIN:VEVENT
DTSTART;TZID=America/Vancouver:20221027T093000
DTEND;TZID=America/Vancouver:20221027T103000
DTSTAMP:20260425T083722
CREATED:20220516T223951Z
LAST-MODIFIED:20220516T223951Z
UID:32038-1666863000-1666866600@reelgreen.ca
SUMMARY:Reel Green™ Carbon Calculator Training - October 2022
DESCRIPTION:Reel Green™ offers free Carbon Calculator training for all film industry professionals in British Columbia and Canada.\n\n\n\n\n\nAbout this event\n\n\nDerived from one of the motion picture industry’s leading carbon calculators\, albert\, Reel Green™ has adapted a carbon calculator for British Columbia\, for free\, for productions in B.C. to use. \nCalculating the carbon footprint of your production is an important step in understanding the impact of film production. Having consistent data and metrics from the industry can help organizations like Reel Green understand priority areas for sustainable practices as well as help productions understand and measure their carbon impact. \nAdditionally\, with more available data points we can also derive economic benefits of going green on production! \nThe albert carbon calculator tool is available free for all productions to use. It has helps streamline the process of inputting and collecting data needed to calculate carbon impact. Multiple productions can be tracked on this tool\, and having a single data hub helps to develop benchmarks for productions to work from and improve upon. \nWe can also offer consultative support though Reel Green™. For more information on carbon calculation please contact reelgreen@creativebc.com \n\nRegister for the October training here
URL:https://reelgreen.ca/event/reel-green-carbon-calculator-training-october-2022/
CATEGORIES:Reel Green
END:VEVENT
END:VCALENDAR