BEGIN:VCALENDAR
VERSION:2.0
PRODID:-//Reel Green™ - ECPv6.15.20//NONSGML v1.0//EN
CALSCALE:GREGORIAN
METHOD:PUBLISH
X-WR-CALNAME:Reel Green™
X-ORIGINAL-URL:https://reelgreen.ca
X-WR-CALDESC:Events for Reel Green™
REFRESH-INTERVAL;VALUE=DURATION:PT1H
X-Robots-Tag:noindex
X-PUBLISHED-TTL:PT1H
BEGIN:VTIMEZONE
TZID:America/Vancouver
BEGIN:DAYLIGHT
TZOFFSETFROM:-0800
TZOFFSETTO:-0700
TZNAME:PDT
DTSTART:20210314T100000
END:DAYLIGHT
BEGIN:STANDARD
TZOFFSETFROM:-0700
TZOFFSETTO:-0800
TZNAME:PST
DTSTART:20211107T090000
END:STANDARD
BEGIN:DAYLIGHT
TZOFFSETFROM:-0800
TZOFFSETTO:-0700
TZNAME:PDT
DTSTART:20220313T100000
END:DAYLIGHT
BEGIN:STANDARD
TZOFFSETFROM:-0700
TZOFFSETTO:-0800
TZNAME:PST
DTSTART:20221106T090000
END:STANDARD
BEGIN:DAYLIGHT
TZOFFSETFROM:-0800
TZOFFSETTO:-0700
TZNAME:PDT
DTSTART:20230312T100000
END:DAYLIGHT
BEGIN:STANDARD
TZOFFSETFROM:-0700
TZOFFSETTO:-0800
TZNAME:PST
DTSTART:20231105T090000
END:STANDARD
END:VTIMEZONE
BEGIN:VEVENT
DTSTART;TZID=America/Vancouver:20221109T093000
DTEND;TZID=America/Vancouver:20221109T113000
DTSTAMP:20260425T065628
CREATED:20221004T171344Z
LAST-MODIFIED:20221004T171344Z
UID:36008-1667986200-1667993400@reelgreen.ca
SUMMARY:Reel Green™ Climate and Sustainable Production Training - November 2022
DESCRIPTION:Learn how Film/TV production contributes to climate change and how to adopt best practices to reduce the environmental impact of production. \nReel Green is going digital! During this at-home time\, we’re offering online Reel Green’s Climate and Sustainable Production courses (formerly called Carbon Literacy). And the course remains free for anyone involved in film\, television and commercial production! \nThe Climate and Sustainable Production training course is a unique\, engaging and solutions-based training session offering attendees the information and inspiration to live and work in a more sustainable way. Upon successful completion of the day\, attendees will: \n\nhave a sound understanding of the science of climate change\nunderstand how to act to reduce their impact\nrecognize the impact that production has on the environment\nhave knowledge of the tools and techniques to lessen this impact\nTaking the Climate and Sustainable Production training course is free and recommended to everyone in the motion picture industry.\n\nWe’ve adapted the curriculum to accommodate a 2-hour training comprising climate science\, what it means for production\, and how to adopt more environmentally sustainable practices on-set. Now is the time to get trained so you can apply your knowledge when production starts up. \nREGISTER HERE
URL:https://reelgreen.ca/event/reel-green-climate-and-sustainable-production-training-november-2022/
CATEGORIES:Reel Green
ATTACH;FMTTYPE=image/png:https://reelgreen.ca/wp-content/uploads/2022/10/thumbnail.png
END:VEVENT
BEGIN:VEVENT
DTSTART;TZID=America/Vancouver:20221115T133000
DTEND;TZID=America/Vancouver:20221115T143000
DTSTAMP:20260425T065628
CREATED:20221019T175041Z
LAST-MODIFIED:20221019T175041Z
UID:36355-1668519000-1668522600@reelgreen.ca
SUMMARY:Reel Green™ Circular Economy Committee Meeting
DESCRIPTION:Join us on November 1\, 2022 at 1:30pm PST for the second Circular Economy Committee Meeting! \nThe Reel Green™ Circular Economy committee was born out of the need to create resources and provide guidance for circular economy initiatives in the motion picture industry. The committee is engaging industry stakeholders\, vendors and crew to discuss barriers and solutions to adopting a circular business model to reduce the industry’s carbon footprint. \nFor any inquiries or questions\, please email sstadnyk@creativebc.com. \nEveryone is welcome to attend and contribute. \n  \nREGISTER HERE
URL:https://reelgreen.ca/event/reel-green-circular-economy-committee-meeting/
CATEGORIES:Reel Green
ATTACH;FMTTYPE=image/png:https://reelgreen.ca/wp-content/uploads/2022/10/MicrosoftTeams-image-23-1.png
END:VEVENT
BEGIN:VEVENT
DTSTART;TZID=America/Vancouver:20221124T093000
DTEND;TZID=America/Vancouver:20221124T103000
DTSTAMP:20260425T065628
CREATED:20220516T224123Z
LAST-MODIFIED:20220516T224123Z
UID:32040-1669282200-1669285800@reelgreen.ca
SUMMARY:Reel Green™ Carbon Calculator Training - November 2022
DESCRIPTION:Reel Green™ offers free Carbon Calculator training for all film industry professionals in British Columbia and Canada.\n\n\n\n\n\nAbout this event\n\n\nDerived from one of the motion picture industry’s leading carbon calculators\, albert\, Reel Green™ has adapted a carbon calculator for British Columbia\, for free\, for productions in B.C. to use. \nCalculating the carbon footprint of your production is an important step in understanding the impact of film production. Having consistent data and metrics from the industry can help organizations like Reel Green understand priority areas for sustainable practices as well as help productions understand and measure their carbon impact. \nAdditionally\, with more available data points we can also derive economic benefits of going green on production! \nThe albert carbon calculator tool is available free for all productions to use. It has helps streamline the process of inputting and collecting data needed to calculate carbon impact. Multiple productions can be tracked on this tool\, and having a single data hub helps to develop benchmarks for productions to work from and improve upon. \nWe can also offer consultative support though Reel Green™. For more information on carbon calculation please contact reelgreen@creativebc.com \n\nRegister for the November training here. 
URL:https://reelgreen.ca/event/reel-green-carbon-calculator-training-november-2022/
CATEGORIES:Reel Green
END:VEVENT
END:VCALENDAR