BEGIN:VCALENDAR
VERSION:2.0
PRODID:-//Reel Green™ - ECPv6.15.20//NONSGML v1.0//EN
CALSCALE:GREGORIAN
METHOD:PUBLISH
X-WR-CALNAME:Reel Green™
X-ORIGINAL-URL:https://reelgreen.ca
X-WR-CALDESC:Events for Reel Green™
REFRESH-INTERVAL;VALUE=DURATION:PT1H
X-Robots-Tag:noindex
X-PUBLISHED-TTL:PT1H
BEGIN:VTIMEZONE
TZID:America/Vancouver
BEGIN:DAYLIGHT
TZOFFSETFROM:-0800
TZOFFSETTO:-0700
TZNAME:PDT
DTSTART:20220313T100000
END:DAYLIGHT
BEGIN:STANDARD
TZOFFSETFROM:-0700
TZOFFSETTO:-0800
TZNAME:PST
DTSTART:20221106T090000
END:STANDARD
BEGIN:DAYLIGHT
TZOFFSETFROM:-0800
TZOFFSETTO:-0700
TZNAME:PDT
DTSTART:20230312T100000
END:DAYLIGHT
BEGIN:STANDARD
TZOFFSETFROM:-0700
TZOFFSETTO:-0800
TZNAME:PST
DTSTART:20231105T090000
END:STANDARD
BEGIN:DAYLIGHT
TZOFFSETFROM:-0800
TZOFFSETTO:-0700
TZNAME:PDT
DTSTART:20240310T100000
END:DAYLIGHT
BEGIN:STANDARD
TZOFFSETFROM:-0700
TZOFFSETTO:-0800
TZNAME:PST
DTSTART:20241103T090000
END:STANDARD
END:VTIMEZONE
BEGIN:VEVENT
DTSTART;TZID=America/Vancouver:20230118T093000
DTEND;TZID=America/Vancouver:20230118T113000
DTSTAMP:20260425T034041
CREATED:20221130T180134Z
LAST-MODIFIED:20221130T180134Z
UID:37718-1674034200-1674041400@reelgreen.ca
SUMMARY:Reel Green™ Sustainable Production Training - January 2023
DESCRIPTION:Reel Green™’s Sustainable Production Training offers free online training for the motion picture industry. Learn how motion picture production contributes to climate change and how to adopt best practices to reduce the environmental impact of production. This course offers a unique\, engaging and solutions-based training session offering attendees the information and inspiration to live and work in a more sustainable way. \nUpon successful completion of the day\, attendees will: \n\nhave a sound understanding of the science of climate change\nunderstand how to act to reduce their impact\nrecognize the impact that production has on the environment\nhave knowledge of the tools and techniques to lessen this impact\n\nTaking the Sustainable Production Training course is free and recommended to everyone in the motion picture industry. In this 2-hour training\, crew will learn about climate science\, what it means for production\, and how to adopt and implement more environmentally sustainable practices on set.  \nREGISTER HERE \n 
URL:https://reelgreen.ca/event/reel-green-sustainable-production-training-january-2023/
CATEGORIES:Reel Green
ATTACH;FMTTYPE=image/png:https://reelgreen.ca/wp-content/uploads/2022/10/thumbnail.png
END:VEVENT
END:VCALENDAR