BEGIN:VCALENDAR
VERSION:2.0
PRODID:-//Reel Green™ - ECPv6.15.20//NONSGML v1.0//EN
CALSCALE:GREGORIAN
METHOD:PUBLISH
X-WR-CALNAME:Reel Green™
X-ORIGINAL-URL:https://reelgreen.ca
X-WR-CALDESC:Events for Reel Green™
REFRESH-INTERVAL;VALUE=DURATION:PT1H
X-Robots-Tag:noindex
X-PUBLISHED-TTL:PT1H
BEGIN:VTIMEZONE
TZID:America/Vancouver
BEGIN:DAYLIGHT
TZOFFSETFROM:-0800
TZOFFSETTO:-0700
TZNAME:PDT
DTSTART:20220313T100000
END:DAYLIGHT
BEGIN:STANDARD
TZOFFSETFROM:-0700
TZOFFSETTO:-0800
TZNAME:PST
DTSTART:20221106T090000
END:STANDARD
BEGIN:DAYLIGHT
TZOFFSETFROM:-0800
TZOFFSETTO:-0700
TZNAME:PDT
DTSTART:20230312T100000
END:DAYLIGHT
BEGIN:STANDARD
TZOFFSETFROM:-0700
TZOFFSETTO:-0800
TZNAME:PST
DTSTART:20231105T090000
END:STANDARD
BEGIN:DAYLIGHT
TZOFFSETFROM:-0800
TZOFFSETTO:-0700
TZNAME:PDT
DTSTART:20240310T100000
END:DAYLIGHT
BEGIN:STANDARD
TZOFFSETFROM:-0700
TZOFFSETTO:-0800
TZNAME:PST
DTSTART:20241103T090000
END:STANDARD
END:VTIMEZONE
BEGIN:VEVENT
DTSTART;TZID=America/Vancouver:20230816T100000
DTEND;TZID=America/Vancouver:20230816T110000
DTSTAMP:20260424T170950
CREATED:20230606T195832Z
LAST-MODIFIED:20230606T195832Z
UID:43651-1692180000-1692183600@reelgreen.ca
SUMMARY:Reel Green™ Carbon Calculator Training - AUGUST 2023
DESCRIPTION:About this event\n\n\n\n\nDerived from one of the motion picture industry’s leading carbon calculators\, albert\, Reel Green™ has adapted a carbon calculator for British Columbia\, for free\, for productions in B.C. to use. \nCalculating the carbon footprint of your production is an important step in understanding the impact of film production. Having consistent data and metrics from the industry can help organizations like Reel Green understand priority areas for sustainable practices as well as help productions understand and measure their carbon impact. \nAdditionally\, with more available data points we can also derive economic benefits of going green on production! \nThe albert carbon calculator tool is available free for all productions to use. It has helps streamline the process of inputting and collecting data needed to calculate carbon impact. Multiple productions can be tracked on this tool\, and having a single data hub helps to develop benchmarks for productions to work from and improve upon. \nWe can also offer consultative support though Reel Green™. For more information on carbon calculation please contact reelgreen@creativebc.com \n  \n\n\n\nREGISTER HERE
URL:https://reelgreen.ca/event/reel-green-carbon-calculator-training-august-2023/
CATEGORIES:Reel Green
ATTACH;FMTTYPE=image/jpeg:https://reelgreen.ca/wp-content/uploads/2023/06/ReelGreen_CarbonCalculator1-1.jpg
END:VEVENT
BEGIN:VEVENT
DTSTART;TZID=America/Vancouver:20230823T090000
DTEND;TZID=America/Vancouver:20230823T160000
DTSTAMP:20260424T170950
CREATED:20230822T174109Z
LAST-MODIFIED:20230822T174109Z
UID:45593-1692781200-1692806400@reelgreen.ca
SUMMARY:Reel Green™ Clean Energy Battery Workshop - AUGUST 2023
DESCRIPTION:Come ready to ask the tough questions\, challenge the stereotypes\, and bust the myths around clean energy in the motion picture industry! Can batteries really replace generators on film sets? How do I know what kind of battery to rent? You can just fill up a generator with more diesel. What happens with you run low with a battery? \nAnswer these questions and more at the Reel Green™ Clean Energy Battery Workshop! \nThis is your chance to work with other skilled professionals and subject matter experts; while trying some of the newest clean energy technology available. \n  \n\n\nDate and Time: Wednesday August 23\, 2023 9:00am – 4:00pm PST \nLocation: Bridge Studios -Boundary\, 2400 Boundary Road Burnaby\, BC V5M 3Z3 \nView the full agenda and register here!
URL:https://reelgreen.ca/event/reel-green-clean-energy-battery-workshop-august-2023/
CATEGORIES:Reel Green
ATTACH;FMTTYPE=image/jpeg:https://reelgreen.ca/wp-content/uploads/2023/08/https-cdn.evbuc_.com-images-562080199-560409375453-1-original.20230725-213956.jpeg
END:VEVENT
BEGIN:VEVENT
DTSTART;TZID=America/Vancouver:20230823T093000
DTEND;TZID=America/Vancouver:20230823T113000
DTSTAMP:20260424T170950
CREATED:20230606T193831Z
LAST-MODIFIED:20230606T193831Z
UID:43649-1692783000-1692790200@reelgreen.ca
SUMMARY:Reel Green™ Sustainable Production Training - AUGUST 2023
DESCRIPTION:About this event\n\n\n\n\nReel Green™’s Sustainable Production Training offers free online training for the motion picture industry. Learn how motion picture production contributes to climate change and how to adopt best practices to reduce the environmental impact of production. This course offers a unique\, engaging and solutions-based training session offering attendees the information and inspiration to live and work in a more sustainable way. \nUpon successful completion of the day\, attendees will: \n\nhave a sound understanding of the science of climate change\nunderstand how to act to reduce their impact\nrecognize the impact that production has on the environment\nhave knowledge of the tools and techniques to lessen this impact\n\nTaking the Sustainable Production Training course is free and recommended to everyone in the motion picture industry. In this 2-hour training\, crew will learn about climate science\, what it means for production\, and how to adopt and implement more environmentally sustainable practices on set. \n\n\n\n  \nREGISTER HERE
URL:https://reelgreen.ca/event/reel-green-sustainable-production-training-august-2023/
CATEGORIES:Reel Green
ATTACH;FMTTYPE=image/jpeg:https://reelgreen.ca/wp-content/uploads/2023/06/ReelGreen_SustainableProdTraining1.jpg
END:VEVENT
END:VCALENDAR