BEGIN:VCALENDAR
VERSION:2.0
PRODID:-//Reel Green™ - ECPv6.15.20//NONSGML v1.0//EN
CALSCALE:GREGORIAN
METHOD:PUBLISH
X-ORIGINAL-URL:https://reelgreen.ca
X-WR-CALDESC:Events for Reel Green™
REFRESH-INTERVAL;VALUE=DURATION:PT1H
X-Robots-Tag:noindex
X-PUBLISHED-TTL:PT1H
BEGIN:VTIMEZONE
TZID:America/Vancouver
BEGIN:DAYLIGHT
TZOFFSETFROM:-0800
TZOFFSETTO:-0700
TZNAME:PDT
DTSTART:20220313T100000
END:DAYLIGHT
BEGIN:STANDARD
TZOFFSETFROM:-0700
TZOFFSETTO:-0800
TZNAME:PST
DTSTART:20221106T090000
END:STANDARD
BEGIN:DAYLIGHT
TZOFFSETFROM:-0800
TZOFFSETTO:-0700
TZNAME:PDT
DTSTART:20230312T100000
END:DAYLIGHT
BEGIN:STANDARD
TZOFFSETFROM:-0700
TZOFFSETTO:-0800
TZNAME:PST
DTSTART:20231105T090000
END:STANDARD
BEGIN:DAYLIGHT
TZOFFSETFROM:-0800
TZOFFSETTO:-0700
TZNAME:PDT
DTSTART:20240310T100000
END:DAYLIGHT
BEGIN:STANDARD
TZOFFSETFROM:-0700
TZOFFSETTO:-0800
TZNAME:PST
DTSTART:20241103T090000
END:STANDARD
END:VTIMEZONE
BEGIN:VEVENT
DTSTART;TZID=America/Vancouver:20231102T093000
DTEND;TZID=America/Vancouver:20231102T113000
DTSTAMP:20260424T123956
CREATED:20230927T234320Z
LAST-MODIFIED:20230927T234320Z
UID:46337-1698917400-1698924600@reelgreen.ca
SUMMARY:Reel Green™ Sustainable Production Training - November 2023
DESCRIPTION:About this event \n\n\n\n\nReel Green™’s Sustainable Production Training offers free online training for the motion picture industry. Learn how motion picture production contributes to climate change and how to adopt best practices to reduce the environmental impact of production. This course offers a unique\, engaging and solutions-based training session offering attendees the information and inspiration to live and work in a more sustainable way. \nUpon successful completion of the day\, attendees will: \n\nhave a sound understanding of the science of climate change\nunderstand how to act to reduce their impact\nrecognize the impact that production has on the environment\nhave knowledge of the tools and techniques to lessen this impact\n\nTaking the Sustainable Production Training course is free and recommended to everyone in the motion picture industry. In this 2-hour training\, crew will learn about climate science\, what it means for production\, and how to adopt and implement more environmentally sustainable practices on set. \n\n\n\n  \nREGISTER HERE
URL:https://reelgreen.ca/event/reel-green-sustainable-production-training-november-2023/
CATEGORIES:Reel Green
ATTACH;FMTTYPE=image/jpeg:https://reelgreen.ca/wp-content/uploads/2023/09/ReelGreen_SustainableProdTraining1.jpg
END:VEVENT
BEGIN:VEVENT
DTSTART;TZID=America/Vancouver:20231109T173000
DTEND;TZID=America/Vancouver:20231109T210000
DTSTAMP:20260424T123956
CREATED:20231025T223149Z
LAST-MODIFIED:20231025T223149Z
UID:46789-1699551000-1699563600@reelgreen.ca
SUMMARY:Reel Green™ Presents: The Magnitude of All Things – Free Screening and Q&A
DESCRIPTION:“Climate change is not happening in the distant future; it is kicking down the front door\, flooding homes\, poisoning water and destroying communities. The connection between humanity and the environment is stated plainly by Australia’s Wonnarua Traditional Custodians: “If this land hurts\, we hurt.” Like ash from a distant fire\, grief on this scale touches everything. But coming to terms with the brutal reality of climate breakdown requires more than empty words and gestures. When hope is lost\, the real work begins.” – The Magnitude of All Things \nJoin Reel Green™ at Science World for a free screening of this award-winning documentary\, followed by a special Q&A with the director of the film\, Jennifer Abbott.  \nDate: Thursday\, November 9\, 2023 \nTime: Doors open at 5:30pm\, screening starts at 6:00pm \nLocation: Science World – Science Theatre | 1455 Quebec St\, Vancouver\, BC V6A 3Z7  \nPresented in partnership with: Reel Green™ and Science World \nThank you to our sponsors: Canadian Media Producers Association and Directors Guild of Canada \nTickets are now available here! \nAbout the Film \nThe Magnitude of All Things (2020) (86 min) \nIn Jennifer Abbott’s cinematic journey\, the Sundance award-winning Director (The Corporation) draws intimate parallels between the experiences of grief—both personal and planetary. Stories from the frontlines of climate change merge with recollections from the filmmaker’s childhood on Ontario’s Georgian Bay. What do these stories have in common? The answer\, surprisingly\, is everything. The film takes us around the world to witness a planet in crisis: from Australia’s catastrophic fires and dying Great Barrier Reef\, to the island nation of Kiribati\, drowned by rising sea levels. In Nunatsiavut\, melting ice permanently alters the landscape\, while in the Amazon rainforest\, Indigenous people fight a desperate battle against oil and mining extraction. \nWatch the trailer below:
URL:https://reelgreen.ca/event/reel-green-presents-the-magnitude-of-all-things-free-screening-and-qa/
CATEGORIES:Motion Picture,Reel Green
ATTACH;FMTTYPE=image/jpeg:https://reelgreen.ca/wp-content/uploads/2023/10/MicrosoftTeams-image-19-scaled-1.jpg
END:VEVENT
BEGIN:VEVENT
DTSTART;TZID=America/Vancouver:20231122T093000
DTEND;TZID=America/Vancouver:20231122T113000
DTSTAMP:20260424T123956
CREATED:20230927T234702Z
LAST-MODIFIED:20230927T234702Z
UID:46340-1700645400-1700652600@reelgreen.ca
SUMMARY:Reel Green™ Sustainable Production Training - November 2023
DESCRIPTION:About this event \n\n\n\n\nReel Green™’s Sustainable Production Training offers free online training for the motion picture industry. Learn how motion picture production contributes to climate change and how to adopt best practices to reduce the environmental impact of production. This course offers a unique\, engaging and solutions-based training session offering attendees the information and inspiration to live and work in a more sustainable way. \nUpon successful completion of the day\, attendees will: \n\nhave a sound understanding of the science of climate change\nunderstand how to act to reduce their impact\nrecognize the impact that production has on the environment\nhave knowledge of the tools and techniques to lessen this impact\n\nTaking the Sustainable Production Training course is free and recommended to everyone in the motion picture industry. In this 2-hour training\, crew will learn about climate science\, what it means for production\, and how to adopt and implement more environmentally sustainable practices on set. \n\n\n\n  \nREGISTER HERE
URL:https://reelgreen.ca/event/reel-green-sustainable-production-training-november-2023-2/
CATEGORIES:Reel Green
ATTACH;FMTTYPE=image/jpeg:https://reelgreen.ca/wp-content/uploads/2023/09/ReelGreen_SustainableProdTraining1.jpg
END:VEVENT
END:VCALENDAR