BEGIN:VCALENDAR
VERSION:2.0
PRODID:-//Reel Green™ - ECPv6.15.20//NONSGML v1.0//EN
CALSCALE:GREGORIAN
METHOD:PUBLISH
X-WR-CALNAME:Reel Green™
X-ORIGINAL-URL:https://reelgreen.ca
X-WR-CALDESC:Events for Reel Green™
REFRESH-INTERVAL;VALUE=DURATION:PT1H
X-Robots-Tag:noindex
X-PUBLISHED-TTL:PT1H
BEGIN:VTIMEZONE
TZID:America/Vancouver
BEGIN:DAYLIGHT
TZOFFSETFROM:-0800
TZOFFSETTO:-0700
TZNAME:PDT
DTSTART:20230312T100000
END:DAYLIGHT
BEGIN:STANDARD
TZOFFSETFROM:-0700
TZOFFSETTO:-0800
TZNAME:PST
DTSTART:20231105T090000
END:STANDARD
BEGIN:DAYLIGHT
TZOFFSETFROM:-0800
TZOFFSETTO:-0700
TZNAME:PDT
DTSTART:20240310T100000
END:DAYLIGHT
BEGIN:STANDARD
TZOFFSETFROM:-0700
TZOFFSETTO:-0800
TZNAME:PST
DTSTART:20241103T090000
END:STANDARD
BEGIN:DAYLIGHT
TZOFFSETFROM:-0800
TZOFFSETTO:-0700
TZNAME:PDT
DTSTART:20250309T100000
END:DAYLIGHT
BEGIN:STANDARD
TZOFFSETFROM:-0700
TZOFFSETTO:-0800
TZNAME:PST
DTSTART:20251102T090000
END:STANDARD
END:VTIMEZONE
BEGIN:VEVENT
DTSTART;TZID=America/Vancouver:20241008T083000
DTEND;TZID=America/Vancouver:20241008T190000
DTSTAMP:20260421T204933
CREATED:20240827T020852Z
LAST-MODIFIED:20240827T020852Z
UID:54341-1728376200-1728414000@reelgreen.ca
SUMMARY:Sustainable Production Forum 2024 - Vancouver
DESCRIPTION:SPF24 returns with a global hybrid conference focused on accelerating decarbonization and sustainability in content creation. With events both online and in cities worldwide\, SPF24-Vancouver will spotlight BC industry-specific knowledge sharing through keynotes\, panels\, workshops\, and networking receptions. \nJoin the SPF24 for an in-depth exploration of sustainable practices in the media sector and connect with thought leaders driving the future of sustainable production.
URL:https://reelgreen.ca/event/sustainable-production-forum-2024/
CATEGORIES:Motion Picture,Reel Green
ATTACH;FMTTYPE=image/jpeg:https://reelgreen.ca/wp-content/uploads/2024/08/20231018-101042.jpg
END:VEVENT
BEGIN:VEVENT
DTSTART;TZID=America/Vancouver:20241008T100000
DTEND;TZID=America/Vancouver:20241008T105500
DTSTAMP:20260421T204933
CREATED:20240920T200029Z
LAST-MODIFIED:20240920T200029Z
UID:55433-1728381600-1728384900@reelgreen.ca
SUMMARY:Sustainable Production Forum 2024 - Vancouver: Building Solid Foundations for Change | Studios and Facilities Panel
DESCRIPTION:Join us for an illuminating panel discussion featuring leading experts who are transforming how studios and production facilities approach environmental stewardship. Discover how these industry innovators are addressing the pressing need for sustainable practices\, from green building designs and energy-efficient equipment to waste reduction and sustainable content production. \nThe panel will feature the new albert studio standard\, and implementation strategies on a facilities level and how these initiatives are creating change.
URL:https://reelgreen.ca/event/sustainable-production-forum-2024-vancouver-building-solid-foundations-for-change-studios-and-facilities-panel/
CATEGORIES:Motion Picture,Reel Green
ATTACH;FMTTYPE=image/jpeg:https://reelgreen.ca/wp-content/uploads/2024/09/download.jpg
END:VEVENT
BEGIN:VEVENT
DTSTART;TZID=America/Vancouver:20241008T142500
DTEND;TZID=America/Vancouver:20241008T150500
DTSTAMP:20260421T204933
CREATED:20240920T200010Z
LAST-MODIFIED:20240920T200010Z
UID:55426-1728397500-1728399900@reelgreen.ca
SUMMARY:Sustainable Production Forum 2024 - Vancouver: Quantify your footprint | Carbon Roundup Workshop
DESCRIPTION:Sustainable Production Forum 2024 – Vancouver returns with a global hybrid conference focused on accelerating decarbonization and sustainability in content creation. With events both online and in cities worldwide\, the forum will spotlight B.C. industry-specific knowledge sharing through keynotes\, panels\, workshops\, and networking receptions. \nIn this panel\, participants will be able to join the hands-on workshop and gain a deep understanding of the Telefilm budget template\, the Sustainability Plan\, and industry standards. Learn how to effectively structure your budget\, highlight sustainability initiatives\, and showcase the green producing ingenuity.
URL:https://reelgreen.ca/event/sustainable-production-forum-2024-carbon-calculation-get-ready-to-measure-your-data/
CATEGORIES:Motion Picture,Reel Green
ATTACH;FMTTYPE=image/jpeg:https://reelgreen.ca/wp-content/uploads/2024/09/download.jpg
END:VEVENT
BEGIN:VEVENT
DTSTART;TZID=America/Vancouver:20241008T142500
DTEND;TZID=America/Vancouver:20241008T150500
DTSTAMP:20260421T204933
CREATED:20240924T222014Z
LAST-MODIFIED:20240924T222014Z
UID:55684-1728397500-1728399900@reelgreen.ca
SUMMARY:Sustainable Production Forum 2024 - Vancouver: Idea Boost Presentation
DESCRIPTION:Join us at the Idea Boost and Clean Energy Series to engage with champions\, thinkers\, suppliers\, and innovators at the Sustainable Production Forum 2024 in Vancouver!
URL:https://reelgreen.ca/event/sustainable-production-forum-2024-vancouver-idea-boost-presentation/
CATEGORIES:Motion Picture,Reel Green
ATTACH;FMTTYPE=image/jpeg:https://reelgreen.ca/wp-content/uploads/2024/09/download.jpg
END:VEVENT
BEGIN:VEVENT
DTSTART;TZID=America/Vancouver:20241008T160000
DTEND;TZID=America/Vancouver:20241008T164000
DTSTAMP:20260421T204933
CREATED:20240920T200036Z
LAST-MODIFIED:20240920T200036Z
UID:55423-1728403200-1728405600@reelgreen.ca
SUMMARY:Sustainable Production Forum 2024 - Vancouver: Collective Impact through Workforce Development Panel
DESCRIPTION:Join us for an insightful showcase exploring the transformative role of workforce coalitions\, unions\, and socially conscious citizens in shaping a healthier and more sustainable environment within the film industry. Panelists will delve into how certifications\, training programs\, and advocacy efforts are paving the way for the next generation of film leaders. \nThe discussion will focus on how various initiatives are not only fostering a more equitable and safe working environment but ensuring that everyone in the film community can thrive in a sustainable and socially responsible industry. \n  \n 
URL:https://reelgreen.ca/event/sustainable-production-forum-2024-collective-impact-through-workforce-development-panel/
CATEGORIES:Motion Picture,Reel Green
ATTACH;FMTTYPE=image/jpeg:https://reelgreen.ca/wp-content/uploads/2024/09/download.jpg
END:VEVENT
BEGIN:VEVENT
DTSTART;TZID=America/Vancouver:20241023T010000
DTEND;TZID=America/Vancouver:20241024T005959
DTSTAMP:20260421T204933
CREATED:20241011T210013Z
LAST-MODIFIED:20241011T210013Z
UID:55993-1729645200-1729731599@reelgreen.ca
SUMMARY:Sustainable Production Forum 2024 - Virtual
DESCRIPTION:Join sustainability leaders on October 23 to gain insights from the following panels and contribute to a greener motion picture industry: \n\nSpotlight on European Sustainability: From Local Initiatives to Treaty Co-Productions\nAnimating a Greener World: Strategies for Sustainable VFX and Animation\nStorytelling on the Land\nWaste Not | Circularity in the Design\n\nStay tuned to the official website for more panel details!
URL:https://reelgreen.ca/event/sustainable-production-forum-2024-virtual/
CATEGORIES:Motion Picture,Reel Green
ATTACH;FMTTYPE=image/jpeg:https://reelgreen.ca/wp-content/uploads/2024/10/Photo-Credit-Coldwater-Communications-e1728508723835.jpg
END:VEVENT
BEGIN:VEVENT
DTSTART;TZID=America/Vancouver:20241023T120000
DTEND;TZID=America/Vancouver:20241023T140000
DTSTAMP:20260421T204933
CREATED:20240920T234422Z
LAST-MODIFIED:20240920T234422Z
UID:55472-1729684800-1729692000@reelgreen.ca
SUMMARY:Reel Green™ Sustainable Production Training | October 23\, 2024
DESCRIPTION:Reel Green™’s Sustainable Production Training offers free online training for the motion picture industry. Learn how motion picture production contributes to climate change and how to adopt best practices to reduce the environmental impact of production. This course offers a unique\, engaging and solutions-based training session offering attendees the information and inspiration to live and work in a more sustainable way. \nUpon successful completion of the course\, attendees will:\n– understand how to act to reduce their impact within the three stages of production\n– recognize the impact that production has on the environment\n– have knowledge of the tools and techniques to lessen this impact and how to collect and report data\n– receive the completion credit and ActSafe Certificate (for B.C. Residents only) \nTaking the Sustainable Production Training course is free and recommended to everyone in the motion picture industry. In this 2-hour training\, crew will learn how to adopt and implement more environmentally sustainable practices in the three stages of production.
URL:https://reelgreen.ca/event/reel-green-sustainable-production-training-october-23-2024/
CATEGORIES:Motion Picture,Reel Green
ATTACH;FMTTYPE=image/jpeg:https://reelgreen.ca/wp-content/uploads/2023/09/ReelGreen_SustainableProdTraining1.jpg
END:VEVENT
END:VCALENDAR