BEGIN:VCALENDAR
VERSION:2.0
PRODID:-//Reel Green™ - ECPv6.15.20//NONSGML v1.0//EN
CALSCALE:GREGORIAN
METHOD:PUBLISH
X-WR-CALNAME:Reel Green™
X-ORIGINAL-URL:https://reelgreen.ca
X-WR-CALDESC:Events for Reel Green™
REFRESH-INTERVAL;VALUE=DURATION:PT1H
X-Robots-Tag:noindex
X-PUBLISHED-TTL:PT1H
BEGIN:VTIMEZONE
TZID:America/Vancouver
BEGIN:DAYLIGHT
TZOFFSETFROM:-0800
TZOFFSETTO:-0700
TZNAME:PDT
DTSTART:20230312T100000
END:DAYLIGHT
BEGIN:STANDARD
TZOFFSETFROM:-0700
TZOFFSETTO:-0800
TZNAME:PST
DTSTART:20231105T090000
END:STANDARD
BEGIN:DAYLIGHT
TZOFFSETFROM:-0800
TZOFFSETTO:-0700
TZNAME:PDT
DTSTART:20240310T100000
END:DAYLIGHT
BEGIN:STANDARD
TZOFFSETFROM:-0700
TZOFFSETTO:-0800
TZNAME:PST
DTSTART:20241103T090000
END:STANDARD
BEGIN:DAYLIGHT
TZOFFSETFROM:-0800
TZOFFSETTO:-0700
TZNAME:PDT
DTSTART:20250309T100000
END:DAYLIGHT
BEGIN:STANDARD
TZOFFSETFROM:-0700
TZOFFSETTO:-0800
TZNAME:PST
DTSTART:20251102T090000
END:STANDARD
END:VTIMEZONE
BEGIN:VEVENT
DTSTART;TZID=America/Vancouver:20241211T090000
DTEND;TZID=America/Vancouver:20241211T160000
DTSTAMP:20260421T172137
CREATED:20241106T220300Z
LAST-MODIFIED:20241126T092555Z
UID:56496-1733907600-1733932800@reelgreen.ca
SUMMARY:Reel Green™ Clean Energy Battery Workshop | December 11\, 2024
DESCRIPTION:Join us on Wednesday December 11\, 2024 in Studio 12 at Bridge Studios for a Clean Energy Battery Workshop. Attendees will get an overview of how to integrate clean energy usage on set and understand how harnessing this technology can benefit the motion picture industry. \nWhat we’ll cover:\n– How batteries can replace diesel generators on set.\n– How to choose the right battery for your production needs.\n– The impact of when a battery runs low in comparison to topping up a diesel generator. \nFind answers to these questions and more as we gather skilled professionals and subject matter experts for an engaging exploration of the latest clean energy technology. Experience firsthand some of the latest advancements in clean energy technology at Bridge Studios. \nSeize the opportunity to elevate your understanding\, contribution\, and practical know-how in the pursuit of a greener film industry! \nLunch and refreshments will be provided\, and everyone is encouraged to bring their own reusable water bottles.
URL:https://reelgreen.ca/event/reel-green-clean-energy-battery-workshop-december-11-2024/
CATEGORIES:Motion Picture,Reel Green
ATTACH;FMTTYPE=image/png:https://reelgreen.ca/wp-content/uploads/2024/11/Reel-Green_Clean-Energy-Battery-Workshop_Eventbrite_20241106-1.png
END:VEVENT
END:VCALENDAR