BEGIN:VCALENDAR
VERSION:2.0
PRODID:-//Reel Green™ - ECPv6.15.20//NONSGML v1.0//EN
CALSCALE:GREGORIAN
METHOD:PUBLISH
X-ORIGINAL-URL:https://reelgreen.ca
X-WR-CALDESC:Events for Reel Green™
REFRESH-INTERVAL;VALUE=DURATION:PT1H
X-Robots-Tag:noindex
X-PUBLISHED-TTL:PT1H
BEGIN:VTIMEZONE
TZID:UTC
BEGIN:STANDARD
TZOFFSETFROM:+0000
TZOFFSETTO:+0000
TZNAME:UTC
DTSTART:20240101T000000
END:STANDARD
END:VTIMEZONE
BEGIN:VEVENT
DTSTART;TZID=UTC:20250125T110000
DTEND;TZID=UTC:20250125T130000
DTSTAMP:20260421T151755
CREATED:20250121T024606Z
LAST-MODIFIED:20250121T031551Z
UID:56888-1737802800-1737810000@reelgreen.ca
SUMMARY:Reel Green™ Carbon Calculator Training | January 25\, 2025
DESCRIPTION:Derived from one of the motion picture industry’s leading carbon calculators\, albert\, Reel Green™ has adapted a carbon calculator for British Columbia\, for free\, for productions in B.C. to use. \nCalculating the carbon footprint of your production is an important step in understanding the impact of film production. Having consistent data and metrics from the industry can help organizations like Reel Green™ understand priority areas for sustainable practices\, as well as help productions\, understand and measure their carbon impact. \nAdditionally\, with more available data points we can also derive economic benefits of going green on production! \nThe albert Carbon Calculator tool is available free for all productions to use. It helps streamline the process of inputting and collecting data needed to calculate carbon impact. Multiple productions can be tracked using this tool\, and having a single data hub helps to develop benchmarks for productions to work from and improve upon. \nReel Green™ also offers consultative support. For more information on carbon calculation please contact reelgreen@creativebc.com
URL:https://reelgreen.ca/event/reel-green-carbon-calculator-training-january-25-2025/
CATEGORIES:Reel Green
ATTACH;FMTTYPE=image/jpeg:https://reelgreen.ca/wp-content/uploads/2023/06/ReelGreen_CarbonCalculator1-1.jpg
END:VEVENT
END:VCALENDAR