BEGIN:VCALENDAR
VERSION:2.0
PRODID:-//Reel Green™ - ECPv6.15.20//NONSGML v1.0//EN
CALSCALE:GREGORIAN
METHOD:PUBLISH
X-ORIGINAL-URL:https://reelgreen.ca
X-WR-CALDESC:Events for Reel Green™
REFRESH-INTERVAL;VALUE=DURATION:PT1H
X-Robots-Tag:noindex
X-PUBLISHED-TTL:PT1H
BEGIN:VTIMEZONE
TZID:UTC
BEGIN:STANDARD
TZOFFSETFROM:+0000
TZOFFSETTO:+0000
TZNAME:UTC
DTSTART:20240101T000000
END:STANDARD
END:VTIMEZONE
BEGIN:VEVENT
DTSTART;TZID=UTC:20250526T123000
DTEND;TZID=UTC:20250526T140000
DTSTAMP:20260422T021754
CREATED:20250402T191143Z
LAST-MODIFIED:20250402T191143Z
UID:57398-1748262600-1748268000@reelgreen.ca
SUMMARY:Reel Green™ Carbon Calculator Training - Monday May 26\, 2025
DESCRIPTION:Reel Green™ Carbon Calculator Training is a free 90 minute online course for the motion picture industry.
URL:https://reelgreen.ca/event/reel-green-carbon-calculator-training-monday-may-26-2025/
CATEGORIES:Reel Green
ATTACH;FMTTYPE=image/jpeg:https://reelgreen.ca/wp-content/uploads/2023/06/ReelGreen_CarbonCalculator1-1.jpg
END:VEVENT
BEGIN:VEVENT
DTSTART;TZID=UTC:20250826T113000
DTEND;TZID=UTC:20250826T130000
DTSTAMP:20260422T021754
CREATED:20250618T231824Z
LAST-MODIFIED:20250618T231933Z
UID:57730-1756207800-1756213200@reelgreen.ca
SUMMARY:Reel Green™ Carbon Calculator Training
DESCRIPTION:Reel Green™ Carbon Calculator Training is a free 90 minute online course for the motion picture industry.
URL:https://reelgreen.ca/event/reel-green-carbon-calculator-training-tuesday-august-26-2026/
CATEGORIES:Reel Green
ATTACH;FMTTYPE=image/jpeg:https://reelgreen.ca/wp-content/uploads/2023/06/ReelGreen_CarbonCalculator1-1.jpg
END:VEVENT
BEGIN:VEVENT
DTSTART;TZID=UTC:20251018T110000
DTEND;TZID=UTC:20251018T123000
DTSTAMP:20260422T021754
CREATED:20250827T001507Z
LAST-MODIFIED:20250827T001738Z
UID:57950-1760785200-1760790600@reelgreen.ca
SUMMARY:Reel Green™ Carbon Calculator Training
DESCRIPTION:Reel Green™ Carbon Calculator Training is a free 90 minute online course for the motion picture industry.
URL:https://reelgreen.ca/event/reel-green-carbon-calculator-training-18-october-2025/
CATEGORIES:Reel Green
ATTACH;FMTTYPE=image/jpeg:https://reelgreen.ca/wp-content/uploads/2023/06/ReelGreen_CarbonCalculator1-1.jpg
END:VEVENT
BEGIN:VEVENT
DTSTART;TZID=UTC:20251104T150000
DTEND;TZID=UTC:20251104T155000
DTSTAMP:20260422T021754
CREATED:20251030T203241Z
LAST-MODIFIED:20251030T203241Z
UID:58092-1762268400-1762271400@reelgreen.ca
SUMMARY:Reel Green™ Carbon Calculator Training at SPF25
DESCRIPTION:Join Reel Green™ Carbon Calculator Training in-person at SPF25 in Vancouver. \n  \nReel Green™ Carbon Calculator Training at SPF25 \nDate: Tuesday\, November 4\, 2025 \nTime: 3:00 – 3:50pm PT \nVenue: Roundhouse Community Arts & Recreation Centre\, 181 Roundhouse Mews\, Vancouver\, BC V6Z 2W3 \nTickets: Purchase Your Crew Pass Here \n  \nFor for more information about SPF25 and Vancouver program highlights click here.
URL:https://reelgreen.ca/event/reel-green-carbon-calculator-training-spf25/
CATEGORIES:Reel Green
ATTACH;FMTTYPE=image/jpeg:https://reelgreen.ca/wp-content/uploads/2023/06/ReelGreen_CarbonCalculator1-1.jpg
END:VEVENT
BEGIN:VEVENT
DTSTART;TZID=UTC:20260128T120000
DTEND;TZID=UTC:20260128T133000
DTSTAMP:20260422T021754
CREATED:20251216T232249Z
LAST-MODIFIED:20251216T232249Z
UID:58211-1769601600-1769607000@reelgreen.ca
SUMMARY:Reel Green™ Carbon Calculator Training
DESCRIPTION:Reel Green™ Carbon Calculator Training is a free 90 minute online course for the motion picture industry.
URL:https://reelgreen.ca/event/reel-green-carbon-calculator-training-28-january-2026/
CATEGORIES:Reel Green
ATTACH;FMTTYPE=image/jpeg:https://reelgreen.ca/wp-content/uploads/2023/06/ReelGreen_CarbonCalculator1-1.jpg
END:VEVENT
BEGIN:VEVENT
DTSTART;TZID=UTC:20260331T120000
DTEND;TZID=UTC:20260331T133000
DTSTAMP:20260422T021754
CREATED:20260304T231713Z
LAST-MODIFIED:20260304T231713Z
UID:58393-1774958400-1774963800@reelgreen.ca
SUMMARY:Reel Green™ Carbon Calculator Training
DESCRIPTION:Reel Green™ Carbon Calculator Training is a free 90 minute online course for the motion picture industry.
URL:https://reelgreen.ca/event/reel-green-carbon-calculator-training-31-march-2026/
CATEGORIES:Reel Green
ATTACH;FMTTYPE=image/jpeg:https://reelgreen.ca/wp-content/uploads/2023/06/ReelGreen_CarbonCalculator1-1.jpg
END:VEVENT
BEGIN:VEVENT
DTSTART;TZID=UTC:20260528T110000
DTEND;TZID=UTC:20260528T123000
DTSTAMP:20260422T021754
CREATED:20260421T174432Z
LAST-MODIFIED:20260421T174432Z
UID:58529-1779966000-1779971400@reelgreen.ca
SUMMARY:Reel Green™ Carbon Calculator Training
DESCRIPTION:Reel Green™ Carbon Calculator Training is a free 90 minute online course for the motion picture industry.
URL:https://reelgreen.ca/event/reel-green-carbon-calculator-training-28-may-2026/
CATEGORIES:Reel Green
ATTACH;FMTTYPE=image/jpeg:https://reelgreen.ca/wp-content/uploads/2023/06/ReelGreen_CarbonCalculator1-1.jpg
END:VEVENT
END:VCALENDAR