BEGIN:VCALENDAR
VERSION:2.0
PRODID:-//Reel Green™ - ECPv6.15.19//NONSGML v1.0//EN
CALSCALE:GREGORIAN
METHOD:PUBLISH
X-WR-CALNAME:Reel Green™
X-ORIGINAL-URL:https://reelgreen.ca
X-WR-CALDESC:Events for Reel Green™
REFRESH-INTERVAL;VALUE=DURATION:PT1H
X-Robots-Tag:noindex
X-PUBLISHED-TTL:PT1H
BEGIN:VTIMEZONE
TZID:America/Vancouver
BEGIN:DAYLIGHT
TZOFFSETFROM:-0800
TZOFFSETTO:-0700
TZNAME:PDT
DTSTART:20210314T100000
END:DAYLIGHT
BEGIN:STANDARD
TZOFFSETFROM:-0700
TZOFFSETTO:-0800
TZNAME:PST
DTSTART:20211107T090000
END:STANDARD
BEGIN:DAYLIGHT
TZOFFSETFROM:-0800
TZOFFSETTO:-0700
TZNAME:PDT
DTSTART:20220313T100000
END:DAYLIGHT
BEGIN:STANDARD
TZOFFSETFROM:-0700
TZOFFSETTO:-0800
TZNAME:PST
DTSTART:20221106T090000
END:STANDARD
BEGIN:DAYLIGHT
TZOFFSETFROM:-0800
TZOFFSETTO:-0700
TZNAME:PDT
DTSTART:20230312T100000
END:DAYLIGHT
BEGIN:STANDARD
TZOFFSETFROM:-0700
TZOFFSETTO:-0800
TZNAME:PST
DTSTART:20231105T090000
END:STANDARD
END:VTIMEZONE
BEGIN:VEVENT
DTSTART;TZID=America/Vancouver:20220519T013000
DTEND;TZID=America/Vancouver:20220519T030000
DTSTAMP:20260421T014717
CREATED:20220513T200738Z
LAST-MODIFIED:20220513T200738Z
UID:31966-1652923800-1652929200@reelgreen.ca
SUMMARY:Around the World in 80 Minutes – Sustainability on Set and on Screen
DESCRIPTION:The climate crisis is global\, and we’re a global industry\, with global supply chains and a global audience. \nWhile much attention is paid to the promises and targets of individual countries\, we know that meeting the challenges of reaching Net Zero requires a joined-up global approach\, and that includes those working in the screen industries. \nJoin albert on a trip around the world as we discuss the challenges\, the opportunities and what we can learn from our colleagues in other territories from energy to editorial. \nWhether you’re working on co-productions\, distributing worldwide or just wanting to understand more about sustainability on an international scale we hope to see you there. \nThe discussion will be moderated by Roser Canela and speakers include: \nBassam Alasad @bassamalasad\nCo-Founder – Greener Screen\n#JORDAN \nGaurav Bhatia\nAVP Legal & Business Affairs – Fremantle Media\n#INDIA \nSmiely Khurana @smielykhurana\nReel Green Sustainability Lead – Creative BC\n#CANADA \nJan Peter Pellemans @jppelleminsta\nProject Leader and Trainer – albert Netherlands\n#NETHERLANDS \nLearn more here. \nRegister for the event here.
URL:https://reelgreen.ca/event/around-the-world-in-80-minutes-sustainability-on-set-and-on-screen/
CATEGORIES:Reel Green
ATTACH;FMTTYPE=image/jpeg:https://reelgreen.ca/wp-content/uploads/2022/05/https___cdn.evbuc_.com_images_274057759_104644748289_1_original.jpeg
END:VEVENT
END:VCALENDAR